BEGIN:VCALENDAR
VERSION:2.0
PRODID:-//Events | FID-Recht//NONSGML Events//EN
CALSCALE:GREGORIAN
X-ORIGINAL-URL:https://events.intrecht.de/termine/
X-WR-CALDESC:Events | FID-Recht - Events
BEGIN:VEVENT
UID:20200603T1418Z-1591193923.3362-EO-587-1@172.16.200.141
STATUS:CONFIRMED
DTSTAMP:20260425T183119Z
CREATED:20230411T095742Z
LAST-MODIFIED:20230411T095742Z
DTSTART;VALUE=DATE:20231121
DTEND;VALUE=DATE:20231123
SUMMARY: Variety of Legal Spaces in Ruthenian lands of Poland-Lithuania dur
 ing the Medieval and Early-Modern Times (Conference)
DESCRIPTION: 21.-22.11.2023 / Online (Frist für Einreichungen: 1.6.2023) ht
 tps://www.uni-muenster.de/imperia/md/content/EViR/call_for_papers_conferenc
 e_variety_of_legal_spaces.pdf
X-ALT-DESC;FMTTYPE=text/html: <p>21.-22.11.2023 / Online <strong>(Frist für
  Einreichungen: 1.6.2023)</strong></p><p><a href="https://www.uni-muenster.
 de/imperia/md/content/EViR/call_for_papers_conference_variety_of_legal_spac
 es.pdf">https://www.uni-muenster.de/imperia/md/content/EViR/call_for_papers
 _conference_variety_of_legal_spaces.pdf</a></p><p>[av_button label='iCal-Ex
 port' link='./feed/eo-events' link_target='' size='small' position='center'
  label_display='' title_attr='' icon_select='yes' icon='ue85b' font='entypo
 -fontello' color='custom' custom_bg='#b5123e' custom_font='#ffffff' av_uid=
 '' id='' custom_class='' admin_preview_bg='']</p>
CATEGORIES:Recht interdisziplinär
LOCATION:Online
GEO:0.000000;0.000000
ORGANIZER;CN="ViFa-Recht":MAILTO:vifa-recht@sbb.spk-berlin.de
URL;VALUE=URI:https://events.intrecht.de/termine/termin/variety-of-legal-sp
 aces-in-ruthenian-lands-of-poland-lithuania-during-the-medieval-and-early-m
 odern-times-conference/
END:VEVENT
BEGIN:VTIMEZONE
TZID:Europe/Berlin
BEGIN:STANDARD
TZOFFSETFROM:+0200
TZOFFSETTO:+0100
DTSTART:20231029T010000
TZNAME:CET
END:STANDARD
END:VTIMEZONE
END:VCALENDAR
