BEGIN:VCALENDAR
VERSION:2.0
PRODID:-//Events | FID-Recht//NONSGML Events//EN
CALSCALE:GREGORIAN
X-ORIGINAL-URL:https://events.intrecht.de/termine/
X-WR-CALDESC:Events | FID-Recht - Events
BEGIN:VEVENT
UID:20210804T1840Z-1628102450.4704-EO-4135-1@172.16.200.141
STATUS:CONFIRMED
DTSTAMP:20260422T112112Z
CREATED:20210730T173631Z
LAST-MODIFIED:20210730T173744Z
DTSTART;VALUE=DATE:20210901
DTEND;VALUE=DATE:20210902
SUMMARY: Utopia and The Legal Imagination (14th Melbourne Doctoral Forum on
  Legal Theory) (CfP)
DESCRIPTION: 22.-23.11.2021\, Online (Frist für Einreichungen: 1.9.2021) ht
 tps://criticallegalthinking.com/2021/07/06/cfp-utopia-and-the-legal-imagina
 tion/    
X-ALT-DESC;FMTTYPE=text/html: <p>22.-23.11.2021\, Online (Frist für Einreic
 hungen: 1.9.2021)</p><p><a href="https://criticallegalthinking.com/2021/07/
 06/cfp-utopia-and-the-legal-imagination/">https://criticallegalthinking.com
 /2021/07/06/cfp-utopia-and-the-legal-imagination/</a></p><p> </p><p> </p><p
 >[av_button label='iCal-Export' link='./feed/eo-events' link_target='' size
 ='small' position='center' label_display='' title_attr='' icon_select='yes'
  icon='ue85b' font='entypo-fontello' color='custom' custom_bg='#b5123e' cus
 tom_font='#ffffff' av_uid='' id='' custom_class='' admin_preview_bg='']</p>
CATEGORIES:Recht interdisziplinär
LOCATION:Online
GEO:0.000000;0.000000
ORGANIZER;CN="ViFa-Recht":MAILTO:vifa-recht@sbb.spk-berlin.de
URL;VALUE=URI:https://events.intrecht.de/termine/termin/utopia-and-the-lega
 l-imagination-14th-melbourne-doctoral-forum-on-legal-theory-cfp/
END:VEVENT
BEGIN:VTIMEZONE
TZID:Europe/Berlin
BEGIN:DAYLIGHT
TZOFFSETFROM:+0100
TZOFFSETTO:+0200
DTSTART:20210328T010000
TZNAME:CEST
END:DAYLIGHT
END:VTIMEZONE
END:VCALENDAR
