BEGIN:VCALENDAR
VERSION:2.0
PRODID:-//Events | FID-Recht//NONSGML Events//EN
CALSCALE:GREGORIAN
X-ORIGINAL-URL:https://events.intrecht.de/termine/
X-WR-CALDESC:Events | FID-Recht - Events
BEGIN:VEVENT
UID:20200603T1418Z-1591193923.3362-EO-587-1@172.16.200.141
STATUS:CONFIRMED
DTSTAMP:20260425T163300Z
CREATED:20240719T130324Z
LAST-MODIFIED:20240719T130324Z
DTSTART;VALUE=DATE:20241007
DTEND;VALUE=DATE:20241009
SUMMARY: Urteilen und Gemeinsinn (Workshop)
DESCRIPTION: 7.-8.10.2024 / Frankfurt am Main https://contrust.uni-frankfur
 t.de/event/urteilen-und-gemeinsinn/
X-ALT-DESC;FMTTYPE=text/html: <p>7.-8.10.2024 / Frankfurt am Main</p><p><a 
 href="https://contrust.uni-frankfurt.de/event/urteilen-und-gemeinsinn/">htt
 ps://contrust.uni-frankfurt.de/event/urteilen-und-gemeinsinn/</a></p><p>[av
 _button label='iCal-Export' link='./feed/eo-events' link_target='' size='sm
 all' position='center' label_display='' title_attr='' icon_select='yes' ico
 n='ue85b' font='entypo-fontello' color='custom' custom_bg='#b5123e' custom_
 font='#ffffff' av_uid='' id='' custom_class='' admin_preview_bg='']</p>
CATEGORIES:Recht interdisziplinär
LOCATION:Inland
GEO:0.000000;0.000000
ORGANIZER;CN="ViFa-Recht":MAILTO:vifa-recht@sbb.spk-berlin.de
URL;VALUE=URI:https://events.intrecht.de/termine/termin/urteilen-und-gemein
 sinn-workshop/
END:VEVENT
BEGIN:VTIMEZONE
TZID:Europe/Berlin
BEGIN:DAYLIGHT
TZOFFSETFROM:+0100
TZOFFSETTO:+0200
DTSTART:20240331T010000
TZNAME:CEST
END:DAYLIGHT
END:VTIMEZONE
END:VCALENDAR
