BEGIN:VCALENDAR
VERSION:2.0
PRODID:-//Events | FID-Recht//NONSGML Events//EN
CALSCALE:GREGORIAN
X-ORIGINAL-URL:https://events.intrecht.de/termine/
X-WR-CALDESC:Events | FID-Recht - Events
BEGIN:VEVENT
UID:20201216T0937Z-1608111431.6083-EO-1078-1@172.16.200.141
STATUS:CONFIRMED
DTSTAMP:20260422T175705Z
CREATED:20200925T105658Z
LAST-MODIFIED:20200925T105658Z
DTSTART;VALUE=DATE:20201012
DTEND;VALUE=DATE:20201012
SUMMARY: Urheberrechtlicher Geheimnisschutz vs. Presse- und Informationsfre
 iheit (Online-Symposion)
DESCRIPTION: 12.10.2020\, Online https://demokratie-eigentum-urheberrecht.d
 e/2-online-symposion-urheberrechtlicher-geheimnisschutz-vs-presse-und-infor
 mationsfreiheit/  
X-ALT-DESC;FMTTYPE=text/html: <p>12.10.2020\, Online</p><p><a href="https:/
 /demokratie-eigentum-urheberrecht.de/2-online-symposion-urheberrechtlicher-
 geheimnisschutz-vs-presse-und-informationsfreiheit/">https://demokratie-eig
 entum-urheberrecht.de/2-online-symposion-urheberrechtlicher-geheimnisschutz
 -vs-presse-und-informationsfreiheit/</a></p><p> </p><p>[av_button label='iC
 al-Export' link='./feed/eo-events' link_target='' size='small' position='ce
 nter' label_display='' title_attr='' icon_select='yes' icon='ue85b' font='e
 ntypo-fontello' color='custom' custom_bg='#b5123e' custom_font='#ffffff' av
 _uid='' id='' custom_class='' admin_preview_bg='']</p>
CATEGORIES:Öffentliches Recht
LOCATION:Online
GEO:0.000000;0.000000
ORGANIZER;CN="ViFa-Recht":MAILTO:vifa-recht@sbb.spk-berlin.de
URL;VALUE=URI:https://events.intrecht.de/termine/termin/urheberrechtlicher-
 geheimnisschutz-vs-presse-und-informationsfreiheit-online-symposion/
END:VEVENT
BEGIN:VTIMEZONE
TZID:Europe/Berlin
BEGIN:DAYLIGHT
TZOFFSETFROM:+0100
TZOFFSETTO:+0200
DTSTART:20200329T010000
TZNAME:CEST
END:DAYLIGHT
END:VTIMEZONE
END:VCALENDAR
