BEGIN:VCALENDAR
VERSION:2.0
PRODID:-//Events | FID-Recht//NONSGML Events//EN
CALSCALE:GREGORIAN
X-ORIGINAL-URL:https://events.intrecht.de/termine/
X-WR-CALDESC:Events | FID-Recht - Events
BEGIN:VEVENT
UID:20200603T1418Z-1591193923.3362-EO-587-1@172.16.200.141
STATUS:CONFIRMED
DTSTAMP:20260422T190120Z
CREATED:20240328T143459Z
LAST-MODIFIED:20240328T143840Z
DTSTART;VALUE=DATE:20240422
DTEND;VALUE=DATE:20240423
SUMMARY: Unrecht mit Recht? Ein Reader zu Nationalsozialismus und juristisc
 her Ausbildung (Eröffnungsveranstaltung)
DESCRIPTION: 22.4.2024 / Berlin https://docs.google.com/forms/d/e/1FAIpQLSd
 T1E2bjCAz189JCkqaaY1J9JBCNo8nEesz69UlHebAyv2o6w/viewform
X-ALT-DESC;FMTTYPE=text/html: <p>22.4.2024 / Berlin</p><p><a href="https://
 docs.google.com/forms/d/e/1FAIpQLSdT1E2bjCAz189JCkqaaY1J9JBCNo8nEesz69UlHeb
 Ayv2o6w/viewform">https://docs.google.com/forms/d/e/1FAIpQLSdT1E2bjCAz189JC
 kqaaY1J9JBCNo8nEesz69UlHebAyv2o6w/viewform</a></p><p>[av_button label='iCal
 -Export' link='./feed/eo-events' link_target='' size='small' position='cent
 er' label_display='' title_attr='' icon_select='yes' icon='ue85b' font='ent
 ypo-fontello' color='custom' custom_bg='#b5123e' custom_font='#ffffff' av_u
 id='' id='' custom_class='' admin_preview_bg='']</p>
CATEGORIES:Recht interdisziplinär
LOCATION:Inland
GEO:0.000000;0.000000
ORGANIZER;CN="ViFa-Recht":MAILTO:vifa-recht@sbb.spk-berlin.de
URL;VALUE=URI:https://events.intrecht.de/termine/termin/unrecht-mit-recht-e
 in-reader-zu-nationalsozialismus-und-juristischer-ausbildung-eroeffnungsver
 anstaltung/
END:VEVENT
BEGIN:VTIMEZONE
TZID:Europe/Berlin
BEGIN:DAYLIGHT
TZOFFSETFROM:+0100
TZOFFSETTO:+0200
DTSTART:20240331T010000
TZNAME:CEST
END:DAYLIGHT
END:VTIMEZONE
END:VCALENDAR
