BEGIN:VCALENDAR
VERSION:2.0
PRODID:-//Events | FID-Recht//NONSGML Events//EN
CALSCALE:GREGORIAN
X-ORIGINAL-URL:https://events.intrecht.de/termine/
X-WR-CALDESC:Events | FID-Recht - Events
BEGIN:VEVENT
UID:20210329T0509Z-1616994566.7426-EO-3756-1@172.16.200.141
STATUS:CONFIRMED
DTSTAMP:20260421T152033Z
CREATED:20210319T140107Z
LAST-MODIFIED:20210319T140227Z
DTSTART;VALUE=DATE:20210526
DTEND;VALUE=DATE:20210526
SUMMARY: Unpacking Transitional Justice – International Law\, Memory\, Powe
 r – Seminar 3/4. Justice: the political economy of international (criminal)
  law (Online-Seminar)
DESCRIPTION: 26.5.2021\, Online https://law.unimelb.edu.au/centres/iilah/ne
 ws-and-events/events-2021/unpacking-transitional-justice-international-law\
 ,-memory\,-power  
X-ALT-DESC;FMTTYPE=text/html: <p>26.5.2021\, Online</p><p><a href="https://
 law.unimelb.edu.au/centres/iilah/news-and-events/events-2021/unpacking-tran
 sitional-justice-international-law\,-memory\,-power">https://law.unimelb.ed
 u.au/centres/iilah/news-and-events/events-2021/unpacking-transitional-justi
 ce-international-law\,-memory\,-power</a></p><p> </p><p>[av_button label='i
 Cal-Export' link='./feed/eo-events' link_target='' size='small' position='c
 enter' label_display='' title_attr='' icon_select='yes' icon='ue85b' font='
 entypo-fontello' color='custom' custom_bg='#b5123e' custom_font='#ffffff' a
 v_uid='' id='' custom_class='' admin_preview_bg='']</p>
CATEGORIES:Europäisches / Internationales Recht
LOCATION:Online
GEO:0.000000;0.000000
ORGANIZER;CN="ViFa-Recht":MAILTO:vifa-recht@sbb.spk-berlin.de
URL;VALUE=URI:https://events.intrecht.de/termine/termin/unpacking-transitio
 nal-justice-international-law-memory-power-seminar-3-4-justice-the-politica
 l-economy-of-international-criminal-law-online-seminar/
END:VEVENT
BEGIN:VTIMEZONE
TZID:Europe/Berlin
BEGIN:DAYLIGHT
TZOFFSETFROM:+0100
TZOFFSETTO:+0200
DTSTART:20210328T010000
TZNAME:CEST
END:DAYLIGHT
END:VTIMEZONE
END:VCALENDAR
