BEGIN:VCALENDAR
VERSION:2.0
PRODID:-//Events | FID-Recht//NONSGML Events//EN
CALSCALE:GREGORIAN
X-ORIGINAL-URL:https://events.intrecht.de/termine/
X-WR-CALDESC:Events | FID-Recht - Events
BEGIN:VEVENT
UID:20230122T2003Z-1674417837.9113-EO-8073-1@172.16.200.151
STATUS:CONFIRMED
DTSTAMP:20260423T083221Z
CREATED:20230118T144213Z
LAST-MODIFIED:20230118T144318Z
DTSTART;VALUE=DATE:20230124
DTEND;VALUE=DATE:20230125
SUMMARY: Universalismus – Ist das Versprechen der Gleichheit noch zu retten
 ? (Podiumsdiskussion)
DESCRIPTION: 24.1.2023 / Hamburg https://www.his-online.de/nc/veranstaltung
 en/veranstaltung-einzelansicht/news/universalismus-ist-das-versprechen-der-
 gleichheit-noch-zu-retten/  
X-ALT-DESC;FMTTYPE=text/html: <p>24.1.2023 / Hamburg</p><p><a href="https:/
 /www.his-online.de/nc/veranstaltungen/veranstaltung-einzelansicht/news/univ
 ersalismus-ist-das-versprechen-der-gleichheit-noch-zu-retten/">https://www.
 his-online.de/nc/veranstaltungen/veranstaltung-einzelansicht/news/universal
 ismus-ist-das-versprechen-der-gleichheit-noch-zu-retten/</a></p><p> </p><p>
 [av_button label='iCal-Export' link='./feed/eo-events' link_target='' size=
 'small' position='center' label_display='' title_attr='' icon_select='yes' 
 icon='ue85b' font='entypo-fontello' color='custom' custom_bg='#b5123e' cust
 om_font='#ffffff' av_uid='' id='' custom_class='' admin_preview_bg='']</p>
CATEGORIES:Recht interdisziplinär
LOCATION:Inland
GEO:0.000000;0.000000
ORGANIZER;CN="ViFa-Recht":MAILTO:vifa-recht@sbb.spk-berlin.de
URL;VALUE=URI:https://events.intrecht.de/termine/termin/universalismus-ist-
 das-versprechen-der-gleichheit-noch-zu-retten-podiumsdiskussion/
END:VEVENT
BEGIN:VTIMEZONE
TZID:Europe/Berlin
BEGIN:STANDARD
TZOFFSETFROM:+0200
TZOFFSETTO:+0100
DTSTART:20221030T010000
TZNAME:CET
END:STANDARD
END:VTIMEZONE
END:VCALENDAR
