BEGIN:VCALENDAR
VERSION:2.0
PRODID:-//Events | FID-Recht//NONSGML Events//EN
CALSCALE:GREGORIAN
X-ORIGINAL-URL:https://events.intrecht.de/termine/
X-WR-CALDESC:Events | FID-Recht - Events
BEGIN:VEVENT
UID:20200603T1418Z-1591193923.3362-EO-587-1@172.16.200.141
STATUS:CONFIRMED
DTSTAMP:20260421T133516Z
CREATED:20230823T071048Z
LAST-MODIFIED:20230823T071048Z
DTSTART;VALUE=DATE:20231204
DTEND;VALUE=DATE:20231205
SUMMARY: Universal Jurisdiction and the Crime of Aggression: the Challenges
  and Opportunities for JIT Member States (Workshop)
DESCRIPTION: 4.12.2023 / Warschau (Frist für Einreichungen: 22.9.2023) http
 s://drive.google.com/file/d/1TrbzfG-TYZXCRDurUgWQIpZH7HWy6f4d/view
X-ALT-DESC;FMTTYPE=text/html: <p>4.12.2023 / Warschau <strong>(Frist für Ei
 nreichungen: 22.9.2023)</strong></p><p><a href="https://drive.google.com/fi
 le/d/1TrbzfG-TYZXCRDurUgWQIpZH7HWy6f4d/view">https://drive.google.com/file/
 d/1TrbzfG-TYZXCRDurUgWQIpZH7HWy6f4d/view</a></p><p>[av_button label='iCal-E
 xport' link='./feed/eo-events' link_target='' size='small' position='center
 ' label_display='' title_attr='' icon_select='yes' icon='ue85b' font='entyp
 o-fontello' color='custom' custom_bg='#b5123e' custom_font='#ffffff' av_uid
 ='' id='' custom_class='' admin_preview_bg='']</p>
CATEGORIES:Recht interdisziplinär
LOCATION:Ausland
GEO:0.000000;0.000000
ORGANIZER;CN="ViFa-Recht":MAILTO:vifa-recht@sbb.spk-berlin.de
URL;VALUE=URI:https://events.intrecht.de/termine/termin/universal-jurisdict
 ion-and-the-crime-of-aggression-the-challenges-and-opportunities-for-jit-me
 mber-states-workshop/
END:VEVENT
BEGIN:VTIMEZONE
TZID:Europe/Berlin
BEGIN:STANDARD
TZOFFSETFROM:+0200
TZOFFSETTO:+0100
DTSTART:20231029T010000
TZNAME:CET
END:STANDARD
END:VTIMEZONE
END:VCALENDAR
