BEGIN:VCALENDAR
VERSION:2.0
PRODID:-//Events | FID-Recht//NONSGML Events//EN
CALSCALE:GREGORIAN
X-ORIGINAL-URL:https://events.intrecht.de/termine/
X-WR-CALDESC:Events | FID-Recht - Events
BEGIN:VEVENT
UID:20211206T1827Z-1638815269.0272-EO-5413-1@172.16.200.141
STATUS:CONFIRMED
DTSTAMP:20260423T021821Z
CREATED:20211130T201837Z
LAST-MODIFIED:20211130T201846Z
DTSTART;VALUE=DATE:20211210
DTEND;VALUE=DATE:20211211
SUMMARY: UNIDROIT’s Projects and Technology (Webinar)
DESCRIPTION: 10.12.2021\, Online Webinar: “UNIDROIT’s Projects and Technolo
 gy” – Conflict of Laws  
X-ALT-DESC;FMTTYPE=text/html: <p>10.12.2021\, Online</p><p><a href="https:/
 /conflictoflaws.net/2021/webinar-unidroits-projects-and-technology/">Webina
 r: “UNIDROIT’s Projects and Technology” – Conflict of Laws</a></p><p> </p><
 p>[av_button label='iCal-Export' link='./feed/eo-events' link_target='' siz
 e='small' position='center' label_display='' title_attr='' icon_select='yes
 ' icon='ue85b' font='entypo-fontello' color='custom' custom_bg='#b5123e' cu
 stom_font='#ffffff' av_uid='' id='' custom_class='' admin_preview_bg='']</p
 >
CATEGORIES:Zivilrecht
LOCATION:Online
GEO:0.000000;0.000000
ORGANIZER;CN="ViFa-Recht":MAILTO:vifa-recht@sbb.spk-berlin.de
URL;VALUE=URI:https://events.intrecht.de/termine/termin/unidroits-projects-
 and-technology-webinar/
END:VEVENT
BEGIN:VTIMEZONE
TZID:Europe/Berlin
BEGIN:STANDARD
TZOFFSETFROM:+0200
TZOFFSETTO:+0100
DTSTART:20211031T010000
TZNAME:CET
END:STANDARD
END:VTIMEZONE
END:VCALENDAR
