BEGIN:VCALENDAR
VERSION:2.0
PRODID:-//Events | FID-Recht//NONSGML Events//EN
CALSCALE:GREGORIAN
X-ORIGINAL-URL:https://events.intrecht.de/termine/
X-WR-CALDESC:Events | FID-Recht - Events
BEGIN:VEVENT
UID:20200603T1418Z-1591193923.3362-EO-587-1@172.16.200.141
STATUS:CONFIRMED
DTSTAMP:20260422T225231Z
CREATED:20250310T141726Z
LAST-MODIFIED:20250310T141726Z
DTSTART;VALUE=DATE:20250312
DTEND;VALUE=DATE:20250313
SUMMARY: UNIDROIT Principles on Digital Assets and Private Law (DAPL): An I
 deal Model for Turkish Law? (Online Event)
DESCRIPTION: 12.3.2025 / Online https://events.mpipriv.de/b?p=current_resea
 rch_on_turkish_law_with_k_berk_kapanci
X-ALT-DESC;FMTTYPE=text/html: <p>12.3.2025 / Online</p><p><a href="https://
 events.mpipriv.de/b?p=current_research_on_turkish_law_with_k_berk_kapanci">
 https://events.mpipriv.de/b?p=current_research_on_turkish_law_with_k_berk_k
 apanci</a></p><p>[av_button label='iCal-Export' link='./feed/eo-events' lin
 k_target='' size='small' position='center' label_display='' title_attr='' i
 con_select='yes' icon='ue85b' font='entypo-fontello' color='custom' custom_
 bg='#b5123e' custom_font='#ffffff' av_uid='' id='' custom_class='' admin_pr
 eview_bg='']</p>
CATEGORIES:Zivilrecht
LOCATION:Online
GEO:0.000000;0.000000
ORGANIZER;CN="ViFa-Recht":MAILTO:vifa-recht@sbb.spk-berlin.de
URL;VALUE=URI:https://events.intrecht.de/termine/termin/unidroit-principles
 -on-digital-assets-and-private-law-dapl-an-ideal-model-for-turkish-law-onli
 ne-event/
END:VEVENT
BEGIN:VTIMEZONE
TZID:Europe/Berlin
BEGIN:STANDARD
TZOFFSETFROM:+0200
TZOFFSETTO:+0100
DTSTART:20241027T010000
TZNAME:CET
END:STANDARD
END:VTIMEZONE
END:VCALENDAR
