BEGIN:VCALENDAR
VERSION:2.0
PRODID:-//Events | FID-Recht//NONSGML Events//EN
CALSCALE:GREGORIAN
X-ORIGINAL-URL:https://events.intrecht.de/termine/
X-WR-CALDESC:Events | FID-Recht - Events
BEGIN:VEVENT
UID:20200603T1418Z-1591193923.3362-EO-587-1@172.16.200.141
STATUS:CONFIRMED
DTSTAMP:20260425T132613Z
CREATED:20250902T121509Z
LAST-MODIFIED:20250902T121509Z
DTSTART;VALUE=DATE:20260618
DTEND;VALUE=DATE:20260621
SUMMARY: Ungleichzeiten. Recht und Ungleichheiten in gegenwärtigen Vergange
 nheiten (Tagung des Jungen Netzwerks Rechtsgeschichte)
DESCRIPTION: 18.-20.6.2026 / Berlin (Einreichungsfrist: 1.12.2025) https://
 www.ungleichzeiten.de/#home
X-ALT-DESC;FMTTYPE=text/html: <p>18.-20.6.2026 / Berlin <strong>(Einreichun
 gsfrist: 1.12.2025)</strong></p><p><a href="https://www.ungleichzeiten.de/#
 home">https://www.ungleichzeiten.de/#home</a></p><p>[av_button label='iCal-
 Export' link='./feed/eo-events' link_target='' size='small' position='cente
 r' label_display='' title_attr='' icon_select='yes' icon='ue85b' font='enty
 po-fontello' color='custom' custom_bg='#b5123e' custom_font='#ffffff' av_ui
 d='' id='' custom_class='' admin_preview_bg='']</p>
CATEGORIES:Recht interdisziplinär
LOCATION:Inland
GEO:0.000000;0.000000
ORGANIZER;CN="ViFa-Recht":MAILTO:vifa-recht@sbb.spk-berlin.de
URL;VALUE=URI:https://events.intrecht.de/termine/termin/ungleichzeiten-rech
 t-und-ungleichheiten-in-gegenwaertigen-vergangenheiten-tagung-des-jungen-ne
 tzwerks-rechtsgeschichte/
END:VEVENT
BEGIN:VTIMEZONE
TZID:Europe/Berlin
BEGIN:DAYLIGHT
TZOFFSETFROM:+0100
TZOFFSETTO:+0200
DTSTART:20260329T010000
TZNAME:CEST
END:DAYLIGHT
END:VTIMEZONE
END:VCALENDAR
