BEGIN:VCALENDAR
VERSION:2.0
PRODID:-//Events | FID-Recht//NONSGML Events//EN
CALSCALE:GREGORIAN
X-ORIGINAL-URL:https://events.intrecht.de/termine/
X-WR-CALDESC:Events | FID-Recht - Events
BEGIN:VEVENT
UID:20211104T2216Z-1636064160.9744-EO-5093-1@172.16.200.141
STATUS:CONFIRMED
DTSTAMP:20260425T181310Z
CREATED:20211102T151035Z
LAST-MODIFIED:20211102T151107Z
DTSTART;VALUE=DATE:20211231
DTEND;VALUE=DATE:20220101
SUMMARY: (Un)fit to rule – themes of acceptance and rejection of rulers thr
 oughout history (Tagung) (CfP)
DESCRIPTION: 26.-28.10.2022\, Belgrad (Frist für Einreichungen: 31.12.2021)
  CALL FOR PAPERS: International conference „(Un)fit to rule: themes of acce
 ptance and rejection of rulers throughout history“ – News – FHI – Online Jo
 urnal der Rechtsgeschichte (forhistiur.net)  
X-ALT-DESC;FMTTYPE=text/html: <p>26.-28.10.2022\, Belgrad (Frist für Einrei
 chungen: 31.12.2021)</p><p><a href="https://forhistiur.net/news/2021-10-30-
 call-for-papers-international-conference-unfit-to-rule-themes-of-acceptance
 -and-rejection-of-rulers-throughout-history/">CALL FOR PAPERS: Internationa
 l conference "(Un)fit to rule: themes of acceptance and rejection of rulers
  throughout history" - News - FHI - Online Journal der Rechtsgeschichte (fo
 rhistiur.net)</a></p><p> </p><p>[av_button label='iCal-Export' link='./feed
 /eo-events' link_target='' size='small' position='center' label_display='' 
 title_attr='' icon_select='yes' icon='ue85b' font='entypo-fontello' color='
 custom' custom_bg='#b5123e' custom_font='#ffffff' av_uid='' id='' custom_cl
 ass='' admin_preview_bg='']</p>
CATEGORIES:Recht interdisziplinär
LOCATION:Ausland
GEO:0.000000;0.000000
ORGANIZER;CN="ViFa-Recht":MAILTO:vifa-recht@sbb.spk-berlin.de
URL;VALUE=URI:https://events.intrecht.de/termine/termin/unfit-to-rule-theme
 s-of-acceptance-and-rejection-of-rulers-throughout-history-tagung-cfp/
END:VEVENT
BEGIN:VTIMEZONE
TZID:Europe/Berlin
BEGIN:STANDARD
TZOFFSETFROM:+0200
TZOFFSETTO:+0100
DTSTART:20211031T010000
TZNAME:CET
END:STANDARD
END:VTIMEZONE
END:VCALENDAR
