BEGIN:VCALENDAR
VERSION:2.0
PRODID:-//Events | FID-Recht//NONSGML Events//EN
CALSCALE:GREGORIAN
X-ORIGINAL-URL:https://events.intrecht.de/termine/
X-WR-CALDESC:Events | FID-Recht - Events
BEGIN:VEVENT
UID:20201118T0113Z-1605662021.1481-EO-2051-1@172.16.200.141
STATUS:CONFIRMED
DTSTAMP:20260425T132725Z
CREATED:20201103T183446Z
LAST-MODIFIED:20201103T183446Z
DTSTART;VALUE=DATE:20201118
DTEND;VALUE=DATE:20201118
SUMMARY: Understanding National Procedural Autonomy – The Promise and Failu
 re of Race Equality Litigation in Europe (with Daniel Halberstam) (Webinar)
DESCRIPTION: 18.11.2020\, Online https://www.cels.law.cam.ac.uk/press/event
 s/2020/09/cels-evening-webinar-understanding-national-procedural-autonomy-p
 romise-and-failure-race-equality  
X-ALT-DESC;FMTTYPE=text/html: <p>18.11.2020\, Online</p><p><a href="https:/
 /www.cels.law.cam.ac.uk/press/events/2020/09/cels-evening-webinar-understan
 ding-national-procedural-autonomy-promise-and-failure-race-equality">https:
 //www.cels.law.cam.ac.uk/press/events/2020/09/cels-evening-webinar-understa
 nding-national-procedural-autonomy-promise-and-failure-race-equality</a></p
 ><p> </p><p>[av_button label='iCal-Export' link='./feed/eo-events' link_tar
 get='' size='small' position='center' label_display='' title_attr='' icon_s
 elect='yes' icon='ue85b' font='entypo-fontello' color='custom' custom_bg='#
 b5123e' custom_font='#ffffff' av_uid='' id='' custom_class='' admin_preview
 _bg='']</p>
CATEGORIES:Europäisches / Internationales Recht,Öffentliches Recht
LOCATION:Online
GEO:0.000000;0.000000
ORGANIZER;CN="ViFa-Recht":MAILTO:vifa-recht@sbb.spk-berlin.de
URL;VALUE=URI:https://events.intrecht.de/termine/termin/understanding-natio
 nal-procedural-autonomy-the-promise-and-failure-of-race-equality-litigation
 -in-europe-with-daniel-halberstam-webinar/
END:VEVENT
BEGIN:VTIMEZONE
TZID:Europe/Berlin
BEGIN:STANDARD
TZOFFSETFROM:+0200
TZOFFSETTO:+0100
DTSTART:20201025T010000
TZNAME:CET
END:STANDARD
END:VTIMEZONE
END:VCALENDAR
