BEGIN:VCALENDAR
VERSION:2.0
PRODID:-//Events | FID-Recht//NONSGML Events//EN
CALSCALE:GREGORIAN
X-ORIGINAL-URL:https://events.intrecht.de/termine/
X-WR-CALDESC:Events | FID-Recht - Events
BEGIN:VEVENT
UID:20220908T1807Z-1662660477.9986-EO-5603-1@172.16.200.151
STATUS:CONFIRMED
DTSTAMP:20260421T201952Z
CREATED:20220907T104237Z
LAST-MODIFIED:20220907T104237Z
DTSTART;VALUE=DATE:20221104
DTEND;VALUE=DATE:20221105
SUMMARY: Understanding legal integration/disintegration – in search of new 
 perspectives (Workshop)
DESCRIPTION: 4.11.2022\, London https://www.legalscholars.ac.uk/event/works
 hop-understanding-legal-integration-disintegration-in-search-of-new-perspec
 tives/  
X-ALT-DESC;FMTTYPE=text/html: <p>4.11.2022\, London</p><p><a href="https://
 www.legalscholars.ac.uk/event/workshop-understanding-legal-integration-disi
 ntegration-in-search-of-new-perspectives/">https://www.legalscholars.ac.uk/
 event/workshop-understanding-legal-integration-disintegration-in-search-of-
 new-perspectives/</a></p><p> </p><p>[av_button label='iCal-Export' link='./
 feed/eo-events' link_target='' size='small' position='center' label_display
 ='' title_attr='' icon_select='yes' icon='ue85b' font='entypo-fontello' col
 or='custom' custom_bg='#b5123e' custom_font='#ffffff' av_uid='' id='' custo
 m_class='' admin_preview_bg='']</p>
CATEGORIES:Recht interdisziplinär
LOCATION:Ausland
GEO:0.000000;0.000000
ORGANIZER;CN="ViFa-Recht":MAILTO:vifa-recht@sbb.spk-berlin.de
URL;VALUE=URI:https://events.intrecht.de/termine/termin/understanding-legal
 -integration-disintegration-in-search-of-new-perspectives-workshop/
END:VEVENT
BEGIN:VTIMEZONE
TZID:Europe/Berlin
BEGIN:STANDARD
TZOFFSETFROM:+0200
TZOFFSETTO:+0100
DTSTART:20221030T010000
TZNAME:CET
END:STANDARD
END:VTIMEZONE
END:VCALENDAR
