BEGIN:VCALENDAR
VERSION:2.0
PRODID:-//Events | FID-Recht//NONSGML Events//EN
CALSCALE:GREGORIAN
X-ORIGINAL-URL:https://events.intrecht.de/termine/
X-WR-CALDESC:Events | FID-Recht - Events
BEGIN:VEVENT
UID:20201212T2124Z-1607808299.0787-EO-2408-1@172.16.200.141
STATUS:CONFIRMED
DTSTAMP:20260421T133436Z
CREATED:20201123T171327Z
LAST-MODIFIED:20201123T171327Z
DTSTART;VALUE=DATE:20201207
DTEND;VALUE=DATE:20201207
SUMMARY: Unconscionability\, Vulnerability\, and Autonomy – Oxford Seminar 
 in Jurisprudence (with Julian Jonker) (Online-Vortrag)
DESCRIPTION: 7.12.2020\, Online https://oxjuris.com/seminars/  
X-ALT-DESC;FMTTYPE=text/html: <p>7.12.2020\, Online</p><p><a href="https://
 oxjuris.com/seminars/">https://oxjuris.com/seminars/</a></p><p> </p><p>[av_
 button label='iCal-Export' link='./feed/eo-events' link_target='' size='sma
 ll' position='center' label_display='' title_attr='' icon_select='yes' icon
 ='ue85b' font='entypo-fontello' color='custom' custom_bg='#b5123e' custom_f
 ont='#ffffff' av_uid='' id='' custom_class='' admin_preview_bg='']</p>
CATEGORIES:Recht interdisziplinär
LOCATION:Online
GEO:0.000000;0.000000
ORGANIZER;CN="ViFa-Recht":MAILTO:vifa-recht@sbb.spk-berlin.de
URL;VALUE=URI:https://events.intrecht.de/termine/termin/unconscionability-v
 ulnerability-and-autonomy-oxford-seminar-in-jurisprudence-with-julian-jonke
 r-online-vortrag-2/
END:VEVENT
BEGIN:VTIMEZONE
TZID:Europe/Berlin
BEGIN:STANDARD
TZOFFSETFROM:+0200
TZOFFSETTO:+0100
DTSTART:20201025T010000
TZNAME:CET
END:STANDARD
END:VTIMEZONE
END:VCALENDAR
