BEGIN:VCALENDAR
VERSION:2.0
PRODID:-//Events | FID-Recht//NONSGML Events//EN
CALSCALE:GREGORIAN
X-ORIGINAL-URL:https://events.intrecht.de/termine/
X-WR-CALDESC:Events | FID-Recht - Events
BEGIN:VEVENT
UID:20201217T0343Z-1608176592.2518-EO-2435-1@172.16.200.141
STATUS:CONFIRMED
DTSTAMP:20260421T102526Z
CREATED:20201201T185355Z
LAST-MODIFIED:20201201T185705Z
DTSTART;VALUE=DATE:20201215
DTEND;VALUE=DATE:20201216
SUMMARY: (Un-)Bewohnbare Gebiete (BAKJ-Kongress 2020\, mit Will Frank) (Onl
 ine-Vortrag)
DESCRIPTION: 15.12.2020\, online https://klimaundrecht.bakj.de/  
X-ALT-DESC;FMTTYPE=text/html: <p>15.12.2020\, online</p><p><a href="https:/
 /klimaundrecht.bakj.de/">https://klimaundrecht.bakj.de/</a></p><p> </p><p>[
 av_button label='iCal-Export' link='./feed/eo-events' link_target='' size='
 small' position='center' label_display='' title_attr='' icon_select='yes' i
 con='ue85b' font='entypo-fontello' color='custom' custom_bg='#b5123e' custo
 m_font='#ffffff' av_uid='' id='' custom_class='' admin_preview_bg='']</p>
CATEGORIES:Öffentliches Recht
LOCATION:Online
GEO:0.000000;0.000000
ORGANIZER;CN="ViFa-Recht":MAILTO:vifa-recht@sbb.spk-berlin.de
URL;VALUE=URI:https://events.intrecht.de/termine/termin/un-bewohnbare-gebie
 te-bakj-kongress-2020-mit-will-frank-online-vortrag/
END:VEVENT
BEGIN:VTIMEZONE
TZID:Europe/Berlin
BEGIN:STANDARD
TZOFFSETFROM:+0200
TZOFFSETTO:+0100
DTSTART:20201025T010000
TZNAME:CET
END:STANDARD
END:VTIMEZONE
END:VCALENDAR
