BEGIN:VCALENDAR
VERSION:2.0
PRODID:-//Events | FID-Recht//NONSGML Events//EN
CALSCALE:GREGORIAN
X-ORIGINAL-URL:https://events.intrecht.de/termine/
X-WR-CALDESC:Events | FID-Recht - Events
BEGIN:VEVENT
UID:20200618T2055Z-1592513753.994-EO-782-1@172.16.200.141
STATUS:CONFIRMED
DTSTAMP:20260422T145129Z
CREATED:20200603T143846Z
LAST-MODIFIED:20200603T143846Z
DTSTART;VALUE=DATE:20200625
DTEND;VALUE=DATE:20200628
SUMMARY: UN @ 75: The Future of Partnership and Multilateralism / 2020 Acad
 emic Council on the United Nations System (ACUNS) Annual Meeting (Online-Ko
 nferenz)
DESCRIPTION: 25.-27.6.2020\, London / Online https://acuns.org/am2020/?mc_c
 id=e47f42dac5&mc_eid=8909407636  
X-ALT-DESC;FMTTYPE=text/html: <p>25.-27.6.2020\, London / Online</p><p><a h
 ref="https://acuns.org/am2020/?mc_cid=e47f42dac5&mc_eid=8909407636">https:/
 /acuns.org/am2020/?mc_cid=e47f42dac5&mc_eid=8909407636</a></p><p> </p><p>[a
 v_button label='iCal-Export' link='./feed/eo-events' link_target='' size='s
 mall' position='center' label_display='' title_attr='' icon_select='yes' ic
 on='ue85b' font='entypo-fontello' color='custom' custom_bg='#b5123e' custom
 _font='#ffffff' av_uid='' id='' custom_class='' admin_preview_bg='']</p>
CATEGORIES:Europäisches / Internationales Recht,Recht interdisziplinär
LOCATION:Online
GEO:0.000000;0.000000
ORGANIZER;CN="ViFa-Recht":MAILTO:vifa-recht@sbb.spk-berlin.de
URL;VALUE=URI:https://events.intrecht.de/termine/termin/un-75-the-future-of
 -partnership-and-multilateralism-2020-academic-council-on-the-united-nation
 s-system-acuns-annual-meeting-online-konferenz/
END:VEVENT
BEGIN:VTIMEZONE
TZID:Europe/Berlin
BEGIN:DAYLIGHT
TZOFFSETFROM:+0100
TZOFFSETTO:+0200
DTSTART:20200329T010000
TZNAME:CEST
END:DAYLIGHT
END:VTIMEZONE
END:VCALENDAR
