BEGIN:VCALENDAR
VERSION:2.0
PRODID:-//Events | FID-Recht//NONSGML Events//EN
CALSCALE:GREGORIAN
X-ORIGINAL-URL:https://events.intrecht.de/termine/
X-WR-CALDESC:Events | FID-Recht - Events
BEGIN:VEVENT
UID:20210130T2259Z-1612047544.9852-EO-2788-1@172.16.200.141
STATUS:CONFIRMED
DTSTAMP:20260421T102856Z
CREATED:20210126T124824Z
LAST-MODIFIED:20210126T124824Z
DTSTART;VALUE=DATE:20210127
DTEND;VALUE=DATE:20210127
SUMMARY: Umwelt- und seerechtliche Fragen zum Fehmarnbelttunnel (mit Liv Ch
 ristiansen) (Online-Vortrag)
DESCRIPTION: 27.1.2021\, Online https://www.wsi.uni-kiel.de/de/veranstaltun
 gen/voelkerrechtliche-tagesthemen  
X-ALT-DESC;FMTTYPE=text/html: <p>27.1.2021\, Online</p><p><a href="https://
 www.wsi.uni-kiel.de/de/veranstaltungen/voelkerrechtliche-tagesthemen">https
 ://www.wsi.uni-kiel.de/de/veranstaltungen/voelkerrechtliche-tagesthemen</a>
 </p><p> </p><p>[av_button label='iCal-Export' link='./feed/eo-events' link_
 target='' size='small' position='center' label_display='' title_attr='' ico
 n_select='yes' icon='ue85b' font='entypo-fontello' color='custom' custom_bg
 ='#b5123e' custom_font='#ffffff' av_uid='' id='' custom_class='' admin_prev
 iew_bg='']</p>
CATEGORIES:Europäisches / Internationales Recht
LOCATION:Online
GEO:0.000000;0.000000
ORGANIZER;CN="ViFa-Recht":MAILTO:vifa-recht@sbb.spk-berlin.de
URL;VALUE=URI:https://events.intrecht.de/termine/termin/umwelt-und-seerecht
 liche-fragen-zum-fehmarnbelttunnel-mit-liv-christiansen-online-vortrag/
END:VEVENT
BEGIN:VTIMEZONE
TZID:Europe/Berlin
BEGIN:STANDARD
TZOFFSETFROM:+0200
TZOFFSETTO:+0100
DTSTART:20201025T010000
TZNAME:CET
END:STANDARD
END:VTIMEZONE
END:VCALENDAR
