BEGIN:VCALENDAR
VERSION:2.0
PRODID:-//Events | FID-Recht//NONSGML Events//EN
CALSCALE:GREGORIAN
X-ORIGINAL-URL:https://events.intrecht.de/termine/
X-WR-CALDESC:Events | FID-Recht - Events
BEGIN:VEVENT
UID:20200603T1418Z-1591193923.3362-EO-587-1@172.16.200.141
STATUS:CONFIRMED
DTSTAMP:20260425T132605Z
CREATED:20250407T133652Z
LAST-MODIFIED:20250407T133652Z
DTSTART;VALUE=DATE:20250626
DTEND;VALUE=DATE:20250628
SUMMARY: Umwelt- und Naturschutz als Menschenrecht (8. Promovierendenkonfer
 enz Umwelt und Recht (ProKUR))
DESCRIPTION: 26.-27.6.2025 / Köln (Einreichungsfrist: 16.5.2025) https://el
 c.uni-koeln.de/sites/ELC/user_upload/Veranstaltungen/8._ProKUR_25_CfA.pdf
X-ALT-DESC;FMTTYPE=text/html: <p>26.-27.6.2025 / Köln <strong>(Einreichungs
 frist: 16.5.2025)</strong></p><p><a href="https://elc.uni-koeln.de/sites/EL
 C/user_upload/Veranstaltungen/8._ProKUR_25_CfA.pdf">https://elc.uni-koeln.d
 e/sites/ELC/user_upload/Veranstaltungen/8._ProKUR_25_CfA.pdf</a></p><p>[av_
 button label='iCal-Export' link='./feed/eo-events' link_target='' size='sma
 ll' position='center' label_display='' title_attr='' icon_select='yes' icon
 ='ue85b' font='entypo-fontello' color='custom' custom_bg='#b5123e' custom_f
 ont='#ffffff' av_uid='' id='' custom_class='' admin_preview_bg='']</p>
CATEGORIES:Recht interdisziplinär
LOCATION:Inland
GEO:0.000000;0.000000
ORGANIZER;CN="ViFa-Recht":MAILTO:vifa-recht@sbb.spk-berlin.de
URL;VALUE=URI:https://events.intrecht.de/termine/termin/umwelt-und-natursch
 utz-als-menschenrecht-8-promovierendenkonferenz-umwelt-und-recht-prokur/
END:VEVENT
BEGIN:VTIMEZONE
TZID:Europe/Berlin
BEGIN:DAYLIGHT
TZOFFSETFROM:+0100
TZOFFSETTO:+0200
DTSTART:20250330T010000
TZNAME:CEST
END:DAYLIGHT
END:VTIMEZONE
END:VCALENDAR
