BEGIN:VCALENDAR
VERSION:2.0
PRODID:-//Events | FID-Recht//NONSGML Events//EN
CALSCALE:GREGORIAN
X-ORIGINAL-URL:https://events.intrecht.de/termine/
X-WR-CALDESC:Events | FID-Recht - Events
BEGIN:VEVENT
UID:20200603T1418Z-1591193923.3362-EO-587-1@172.16.200.141
STATUS:CONFIRMED
DTSTAMP:20260425T150413Z
CREATED:20231112T144155Z
LAST-MODIFIED:20231112T144155Z
DTSTART;VALUE=DATE:20231124
DTEND;VALUE=DATE:20231126
SUMMARY: Umrisse eines Politischen Europa: Bestandsaufnahme von Verfassungs
 prozessen in Bewegung (Hybridveranstaltung)
DESCRIPTION: 24.-25.11.2023 / Online und Hagen https://www.fernuni-hagen.de
 /dtiev/veranstaltungen/Symposion-2023.shtml
X-ALT-DESC;FMTTYPE=text/html: <p>24.-25.11.2023 / Online und Hagen</p><p><a
  href="https://www.fernuni-hagen.de/dtiev/veranstaltungen/Symposion-2023.sh
 tml">https://www.fernuni-hagen.de/dtiev/veranstaltungen/Symposion-2023.shtm
 l</a></p><p>[av_button label='iCal-Export' link='./feed/eo-events' link_tar
 get='' size='small' position='center' label_display='' title_attr='' icon_s
 elect='yes' icon='ue85b' font='entypo-fontello' color='custom' custom_bg='#
 b5123e' custom_font='#ffffff' av_uid='' id='' custom_class='' admin_preview
 _bg='']</p>
CATEGORIES:Recht interdisziplinär
LOCATION:Online
GEO:0.000000;0.000000
ORGANIZER;CN="ViFa-Recht":MAILTO:vifa-recht@sbb.spk-berlin.de
URL;VALUE=URI:https://events.intrecht.de/termine/termin/umrisse-eines-polit
 ischen-europa-bestandsaufnahme-von-verfassungsprozessen-in-bewegung-hybridv
 eranstaltung/
END:VEVENT
BEGIN:VTIMEZONE
TZID:Europe/Berlin
BEGIN:STANDARD
TZOFFSETFROM:+0200
TZOFFSETTO:+0100
DTSTART:20231029T010000
TZNAME:CET
END:STANDARD
END:VTIMEZONE
END:VCALENDAR
