BEGIN:VCALENDAR
VERSION:2.0
PRODID:-//Events | FID-Recht//NONSGML Events//EN
CALSCALE:GREGORIAN
X-ORIGINAL-URL:https://events.intrecht.de/termine/
X-WR-CALDESC:Events | FID-Recht - Events
BEGIN:VEVENT
UID:20220904T1238Z-1662295086.2067-EO-5325-1@172.16.200.151
STATUS:CONFIRMED
DTSTAMP:20260422T221449Z
CREATED:20220901T101557Z
LAST-MODIFIED:20220901T101557Z
DTSTART;VALUE=DATE:20221017
DTEND;VALUE=DATE:20221017
SUMMARY: Ukraine?! – Hintergründe und Diskussionen: Der Krieg in der Ukrain
 e und das Völkerrecht. Zur Einführung (Teil einer Vortragsreihe)
DESCRIPTION: 17.10.2022\, Württembergische Landesbibliothek und online http
 s://voelkerrechtsblog.org/events/ukraine-hintergruende-und-diskussionen/  
X-ALT-DESC;FMTTYPE=text/html: <p>17.10.2022\, Württembergische Landesbiblio
 thek und online</p><p><a href="https://voelkerrechtsblog.org/events/ukraine
 -hintergruende-und-diskussionen/">https://voelkerrechtsblog.org/events/ukra
 ine-hintergruende-und-diskussionen/</a></p><p> </p><p>[av_button label='iCa
 l-Export' link='./feed/eo-events' link_target='' size='small' position='cen
 ter' label_display='' title_attr='' icon_select='yes' icon='ue85b' font='en
 typo-fontello' color='custom' custom_bg='#b5123e' custom_font='#ffffff' av_
 uid='' id='' custom_class='' admin_preview_bg='']</p>
CATEGORIES:Recht interdisziplinär
LOCATION:Online
GEO:0.000000;0.000000
ORGANIZER;CN="ViFa-Recht":MAILTO:vifa-recht@sbb.spk-berlin.de
URL;VALUE=URI:https://events.intrecht.de/termine/termin/ukraine-hintergruen
 de-und-diskussionen-der-krieg-in-der-ukraine-und-das-voelkerrecht-zur-einfu
 ehrung-teil-einer-vortragsreihe/
END:VEVENT
BEGIN:VTIMEZONE
TZID:Europe/Berlin
BEGIN:DAYLIGHT
TZOFFSETFROM:+0100
TZOFFSETTO:+0200
DTSTART:20220327T010000
TZNAME:CEST
END:DAYLIGHT
END:VTIMEZONE
END:VCALENDAR
