BEGIN:VCALENDAR
VERSION:2.0
PRODID:-//Events | FID-Recht//NONSGML Events//EN
CALSCALE:GREGORIAN
X-ORIGINAL-URL:https://events.intrecht.de/termine/
X-WR-CALDESC:Events | FID-Recht - Events
BEGIN:VEVENT
UID:20201113T1043Z-1605264235.6372-EO-2199-1@172.16.200.141
STATUS:CONFIRMED
DTSTAMP:20260421T133414Z
CREATED:20201111T171836Z
LAST-MODIFIED:20201113T110820Z
DTSTART;VALUE=DATE:20201202
DTEND;VALUE=DATE:20201203
SUMMARY: UK External Trade Relations (with Catherine Barnard\, Gerry Facenn
 a\, Alexander Horne\, Brendan McGurk) (Webinar)
DESCRIPTION: 2.12.2020\, Online https://www.cels.law.cam.ac.uk/press/events
 /2020/12/monckton-faculty-law-webinar-series-eu-relations-law-uk-external-t
 rade-relations    
X-ALT-DESC;FMTTYPE=text/html: <p>2.12.2020\, Online</p><p><a href="https://
 www.cels.law.cam.ac.uk/press/events/2020/12/monckton-faculty-law-webinar-se
 ries-eu-relations-law-uk-external-trade-relations">https://www.cels.law.cam
 .ac.uk/press/events/2020/12/monckton-faculty-law-webinar-series-eu-relation
 s-law-uk-external-trade-relations</a></p><p> </p><p> </p><p>[av_button labe
 l='iCal-Export' link='./feed/eo-events' link_target='' size='small' positio
 n='center' label_display='' title_attr='' icon_select='yes' icon='ue85b' fo
 nt='entypo-fontello' color='custom' custom_bg='#b5123e' custom_font='#fffff
 f' av_uid='' id='' custom_class='' admin_preview_bg='']</p>
CATEGORIES:Europäisches / Internationales Recht
LOCATION:Online
GEO:0.000000;0.000000
ORGANIZER;CN="ViFa-Recht":MAILTO:vifa-recht@sbb.spk-berlin.de
URL;VALUE=URI:https://events.intrecht.de/termine/termin/uk-external-trade-r
 elations-with-catherine-barnard-gerry-facenna-alexander-horne-brendan-mcgur
 k-webinar/
END:VEVENT
BEGIN:VTIMEZONE
TZID:Europe/Berlin
BEGIN:STANDARD
TZOFFSETFROM:+0200
TZOFFSETTO:+0100
DTSTART:20201025T010000
TZNAME:CET
END:STANDARD
END:VTIMEZONE
END:VCALENDAR
