BEGIN:VCALENDAR
VERSION:2.0
PRODID:-//Events | FID-Recht//NONSGML Events//EN
CALSCALE:GREGORIAN
X-ORIGINAL-URL:https://events.intrecht.de/termine/
X-WR-CALDESC:Events | FID-Recht - Events
BEGIN:VEVENT
UID:20230109T1510Z-1673277021.7807-EO-7945-1@172.16.200.151
STATUS:CONFIRMED
DTSTAMP:20260421T115336Z
CREATED:20230105T120529Z
LAST-MODIFIED:20230105T120623Z
DTSTART;VALUE=DATE:20230124
DTEND;VALUE=DATE:20230125
SUMMARY: Two Articles 8 (UN Charter and CEDAW)
DESCRIPTION: 24.1.2023 / Online https://www.eventbrite.com/e/liesbeth-lijnz
 aad-on-two-articles-8-un-charter-and-cedaw-tickets-494925534597?aff=estw&ut
 m-campaign=social&utm-content=attendeeshare&utm-medium=discovery&utm-source
 =tw&utm-term=listing  
X-ALT-DESC;FMTTYPE=text/html: <p>24.1.2023 / Online</p><p><a href="https://
 www.eventbrite.com/e/liesbeth-lijnzaad-on-two-articles-8-un-charter-and-ced
 aw-tickets-494925534597?aff=estw&utm-campaign=social&utm-content=attendeesh
 are&utm-medium=discovery&utm-source=tw&utm-term=listing">https://www.eventb
 rite.com/e/liesbeth-lijnzaad-on-two-articles-8-un-charter-and-cedaw-tickets
 -494925534597?aff=estw&utm-campaign=social&utm-content=attendeeshare&utm-me
 dium=discovery&utm-source=tw&utm-term=listing</a></p><p> </p><p>[av_button 
 label='iCal-Export' link='./feed/eo-events' link_target='' size='small' pos
 ition='center' label_display='' title_attr='' icon_select='yes' icon='ue85b
 ' font='entypo-fontello' color='custom' custom_bg='#b5123e' custom_font='#f
 fffff' av_uid='' id='' custom_class='' admin_preview_bg='']</p>
CATEGORIES:Europäisches / Internationales Recht
LOCATION:Online
GEO:0.000000;0.000000
ORGANIZER;CN="ViFa-Recht":MAILTO:vifa-recht@sbb.spk-berlin.de
URL;VALUE=URI:https://events.intrecht.de/termine/termin/two-articles-8-un-c
 harter-and-cedaw/
END:VEVENT
BEGIN:VTIMEZONE
TZID:Europe/Berlin
BEGIN:STANDARD
TZOFFSETFROM:+0200
TZOFFSETTO:+0100
DTSTART:20221030T010000
TZNAME:CET
END:STANDARD
END:VTIMEZONE
END:VCALENDAR
