BEGIN:VCALENDAR
VERSION:2.0
PRODID:-//Events | FID-Recht//NONSGML Events//EN
CALSCALE:GREGORIAN
X-ORIGINAL-URL:https://events.intrecht.de/termine/
X-WR-CALDESC:Events | FID-Recht - Events
BEGIN:VEVENT
UID:20211206T1825Z-1638815142.0103-EO-5434-1@172.16.200.141
STATUS:CONFIRMED
DTSTAMP:20260421T102715Z
CREATED:20211201T113859Z
LAST-MODIFIED:20211201T113859Z
DTSTART;VALUE=DATE:20211206
DTEND;VALUE=DATE:20211207
SUMMARY: Tunisia’s Democracy – Questions of Political Pluralism and Governa
 nce Efficiency (Online-Diskussion)
DESCRIPTION: 6.12.2021\, Online Tunisia’s Democracy | Démocratie Tunisienne
  (evey.live)  
X-ALT-DESC;FMTTYPE=text/html: <p>6.12.2021\, Online</p><p><a href="https://
 evey.live/events/defis-de-la-democratie-tunisienne">Tunisia’s Democracy | D
 émocratie Tunisienne (evey.live)</a></p><p> </p><p>[av_button label='iCal-E
 xport' link='./feed/eo-events' link_target='' size='small' position='center
 ' label_display='' title_attr='' icon_select='yes' icon='ue85b' font='entyp
 o-fontello' color='custom' custom_bg='#b5123e' custom_font='#ffffff' av_uid
 ='' id='' custom_class='' admin_preview_bg='']</p>
CATEGORIES:Öffentliches Recht
LOCATION:Online
GEO:0.000000;0.000000
ORGANIZER;CN="ViFa-Recht":MAILTO:vifa-recht@sbb.spk-berlin.de
URL;VALUE=URI:https://events.intrecht.de/termine/termin/tunisias-democracy-
 questions-of-political-pluralism-and-governance-efficiency-online-diskussio
 n/
END:VEVENT
BEGIN:VTIMEZONE
TZID:Europe/Berlin
BEGIN:STANDARD
TZOFFSETFROM:+0200
TZOFFSETTO:+0100
DTSTART:20211031T010000
TZNAME:CET
END:STANDARD
END:VTIMEZONE
END:VCALENDAR
