BEGIN:VCALENDAR
VERSION:2.0
PRODID:-//Events | FID-Recht//NONSGML Events//EN
CALSCALE:GREGORIAN
X-ORIGINAL-URL:https://events.intrecht.de/termine/
X-WR-CALDESC:Events | FID-Recht - Events
BEGIN:VEVENT
UID:20200603T1418Z-1591193923.3362-EO-587-1@172.16.200.141
STATUS:CONFIRMED
DTSTAMP:20260425T151146Z
CREATED:20231112T144616Z
LAST-MODIFIED:20231112T144616Z
DTSTART;VALUE=DATE:20231117
DTEND;VALUE=DATE:20231118
SUMMARY: Trumpism and the Fate of the Rule of Law (Vortrag)
DESCRIPTION: 17.11.2023 / Kiel https://www.uni-kiel.de/de/veranstaltungen/d
 etailansicht/news/trumpism-fate-of-the-rule-of-law
X-ALT-DESC;FMTTYPE=text/html: <p>17.11.2023 / Kiel</p><p><a href="https://w
 ww.uni-kiel.de/de/veranstaltungen/detailansicht/news/trumpism-fate-of-the-r
 ule-of-law">https://www.uni-kiel.de/de/veranstaltungen/detailansicht/news/t
 rumpism-fate-of-the-rule-of-law</a></p><p>[av_button label='iCal-Export' li
 nk='./feed/eo-events' link_target='' size='small' position='center' label_d
 isplay='' title_attr='' icon_select='yes' icon='ue85b' font='entypo-fontell
 o' color='custom' custom_bg='#b5123e' custom_font='#ffffff' av_uid='' id=''
  custom_class='' admin_preview_bg='']</p>
CATEGORIES:Recht interdisziplinär
LOCATION:Inland
GEO:0.000000;0.000000
ORGANIZER;CN="ViFa-Recht":MAILTO:vifa-recht@sbb.spk-berlin.de
URL;VALUE=URI:https://events.intrecht.de/termine/termin/trumpism-and-the-fa
 te-of-the-rule-of-law-vortrag/
END:VEVENT
BEGIN:VTIMEZONE
TZID:Europe/Berlin
BEGIN:STANDARD
TZOFFSETFROM:+0200
TZOFFSETTO:+0100
DTSTART:20231029T010000
TZNAME:CET
END:STANDARD
END:VTIMEZONE
END:VCALENDAR
