BEGIN:VCALENDAR
VERSION:2.0
PRODID:-//Events | FID-Recht//NONSGML Events//EN
CALSCALE:GREGORIAN
X-ORIGINAL-URL:https://events.intrecht.de/termine/
X-WR-CALDESC:Events | FID-Recht - Events
BEGIN:VEVENT
UID:20200930T2254Z-1601506484.7522-EO-1614-1@172.16.200.141
STATUS:CONFIRMED
DTSTAMP:20260422T160936Z
CREATED:20200925T175732Z
LAST-MODIFIED:20200925T175732Z
DTSTART;VALUE=DATE:20201005
DTEND;VALUE=DATE:20201005
SUMMARY: Triggering Reason-Giving and Exclusive Legal Positivism – Oxford S
 eminar in Jurisprudence with Ezequiel Monti (Online-Vortrag)
DESCRIPTION: 5.10.2020\, Online https://oxjuris.com/seminars/  
X-ALT-DESC;FMTTYPE=text/html: <p>5.10.2020\, Online</p><p><a href="https://
 oxjuris.com/seminars/">https://oxjuris.com/seminars/</a></p><p> </p><p>[av_
 button label='iCal-Export' link='./feed/eo-events' link_target='' size='sma
 ll' position='center' label_display='' title_attr='' icon_select='yes' icon
 ='ue85b' font='entypo-fontello' color='custom' custom_bg='#b5123e' custom_f
 ont='#ffffff' av_uid='' id='' custom_class='' admin_preview_bg='']</p>
CATEGORIES:Recht interdisziplinär
LOCATION:Online
GEO:0.000000;0.000000
ORGANIZER;CN="ViFa-Recht":MAILTO:vifa-recht@sbb.spk-berlin.de
URL;VALUE=URI:https://events.intrecht.de/termine/termin/triggering-reason-g
 iving-and-exclusive-legal-positivism-oxford-seminar-in-jurisprudence-with-e
 zequiel-monti-online-vortrag/
END:VEVENT
BEGIN:VTIMEZONE
TZID:Europe/Berlin
BEGIN:DAYLIGHT
TZOFFSETFROM:+0100
TZOFFSETTO:+0200
DTSTART:20200329T010000
TZNAME:CEST
END:DAYLIGHT
END:VTIMEZONE
END:VCALENDAR
