BEGIN:VCALENDAR
VERSION:2.0
PRODID:-//Events | FID-Recht//NONSGML Events//EN
CALSCALE:GREGORIAN
X-ORIGINAL-URL:https://events.intrecht.de/termine/
X-WR-CALDESC:Events | FID-Recht - Events
BEGIN:VEVENT
UID:20210302T1616Z-1614701773.7557-EO-3433-1@172.16.200.141
STATUS:CONFIRMED
DTSTAMP:20260423T060008Z
CREATED:20210219T130925Z
LAST-MODIFIED:20210219T130925Z
DTSTART;VALUE=DATE:20210208
DTEND;VALUE=DATE:20210208
SUMMARY: Triage in Pandemiesituationen (mit Tatjana Hörnle) (Online-Vortrag
 )
DESCRIPTION: 8.2.2021\, Online https://www.rechtimkontext.de/veranstaltunge
 n/veranstaltung/triage-in-pandemiesituationen/    
X-ALT-DESC;FMTTYPE=text/html: <p>8.2.2021\, Online</p><p><a href="https://w
 ww.rechtimkontext.de/veranstaltungen/veranstaltung/triage-in-pandemiesituat
 ionen/">https://www.rechtimkontext.de/veranstaltungen/veranstaltung/triage-
 in-pandemiesituationen/</a></p><p> </p><p> </p><p>[av_button label='iCal-Ex
 port' link='./feed/eo-events' link_target='' size='small' position='center'
  label_display='' title_attr='' icon_select='yes' icon='ue85b' font='entypo
 -fontello' color='custom' custom_bg='#b5123e' custom_font='#ffffff' av_uid=
 '' id='' custom_class='' admin_preview_bg='']</p>
CATEGORIES:Recht interdisziplinär
LOCATION:Online
GEO:0.000000;0.000000
ORGANIZER;CN="ViFa-Recht":MAILTO:vifa-recht@sbb.spk-berlin.de
URL;VALUE=URI:https://events.intrecht.de/termine/termin/triage-in-pandemies
 ituationen-mit-tatjana-hoernle-online-vortrag/
END:VEVENT
BEGIN:VTIMEZONE
TZID:Europe/Berlin
BEGIN:STANDARD
TZOFFSETFROM:+0200
TZOFFSETTO:+0100
DTSTART:20201025T010000
TZNAME:CET
END:STANDARD
END:VTIMEZONE
END:VCALENDAR
