BEGIN:VCALENDAR
VERSION:2.0
PRODID:-//Events | FID-Recht//NONSGML Events//EN
CALSCALE:GREGORIAN
X-ORIGINAL-URL:https://events.intrecht.de/termine/
X-WR-CALDESC:Events | FID-Recht - Events
BEGIN:VEVENT
UID:20200603T1418Z-1591193923.3362-EO-587-1@172.16.200.141
STATUS:CONFIRMED
DTSTAMP:20260425T162705Z
CREATED:20231116T125429Z
LAST-MODIFIED:20231116T125429Z
DTSTART;VALUE=DATE:20231207
DTEND;VALUE=DATE:20231208
SUMMARY: Trends in Australian Private International Law (Virtual Workshop /
  “Current Research in Private International Law”)
DESCRIPTION: 7.12.2023 / Online https://events.mpipriv.de/virtual_workshop_
 with_mary_keyes
X-ALT-DESC;FMTTYPE=text/html: <p>7.12.2023 / Online</p><p><a href="https://
 events.mpipriv.de/virtual_workshop_with_mary_keyes">https://events.mpipriv.
 de/virtual_workshop_with_mary_keyes</a></p><p>[av_button label='iCal-Export
 ' link='./feed/eo-events' link_target='' size='small' position='center' lab
 el_display='' title_attr='' icon_select='yes' icon='ue85b' font='entypo-fon
 tello' color='custom' custom_bg='#b5123e' custom_font='#ffffff' av_uid='' i
 d='' custom_class='' admin_preview_bg='']</p>
CATEGORIES:Zivilrecht
LOCATION:Online
GEO:0.000000;0.000000
ORGANIZER;CN="ViFa-Recht":MAILTO:vifa-recht@sbb.spk-berlin.de
URL;VALUE=URI:https://events.intrecht.de/termine/termin/trends-in-australia
 n-private-international-law-virtual-workshop-current-research-in-private-in
 ternational-law/
END:VEVENT
BEGIN:VTIMEZONE
TZID:Europe/Berlin
BEGIN:STANDARD
TZOFFSETFROM:+0200
TZOFFSETTO:+0100
DTSTART:20231029T010000
TZNAME:CET
END:STANDARD
END:VTIMEZONE
END:VCALENDAR
