BEGIN:VCALENDAR
VERSION:2.0
PRODID:-//Events | FID-Recht//NONSGML Events//EN
CALSCALE:GREGORIAN
X-ORIGINAL-URL:https://events.intrecht.de/termine/
X-WR-CALDESC:Events | FID-Recht - Events
BEGIN:VEVENT
UID:20200603T1418Z-1591193923.3362-EO-587-1@172.16.200.141
STATUS:CONFIRMED
DTSTAMP:20260423T020059Z
CREATED:20250310T142712Z
LAST-MODIFIED:20250310T142712Z
DTSTART;VALUE=DATE:20250617
DTEND;VALUE=DATE:20250618
SUMMARY: Treaty Regimes in International Law (Workshop)
DESCRIPTION: 17.6.2025 / Oxford (Einreichungsfrist: 10.3.2025) https://www.
 elac.ox.ac.uk/call-for-papers-intl-law-workshop-berman/
X-ALT-DESC;FMTTYPE=text/html: <p>17.6.2025 / Oxford <strong>(Einreichungsfr
 ist: 10.3.2025)</strong></p><p><a href="https://www.elac.ox.ac.uk/call-for-
 papers-intl-law-workshop-berman/">https://www.elac.ox.ac.uk/call-for-papers
 -intl-law-workshop-berman/</a></p><p>[av_button label='iCal-Export' link='.
 /feed/eo-events' link_target='' size='small' position='center' label_displa
 y='' title_attr='' icon_select='yes' icon='ue85b' font='entypo-fontello' co
 lor='custom' custom_bg='#b5123e' custom_font='#ffffff' av_uid='' id='' cust
 om_class='' admin_preview_bg='']</p>
CATEGORIES:Europäisches / Internationales Recht
LOCATION:Ausland
GEO:0.000000;0.000000
ORGANIZER;CN="ViFa-Recht":MAILTO:vifa-recht@sbb.spk-berlin.de
URL;VALUE=URI:https://events.intrecht.de/termine/termin/treaty-regimes-in-i
 nternational-law-workshop/
END:VEVENT
BEGIN:VTIMEZONE
TZID:Europe/Berlin
BEGIN:DAYLIGHT
TZOFFSETFROM:+0100
TZOFFSETTO:+0200
DTSTART:20250330T010000
TZNAME:CEST
END:DAYLIGHT
END:VTIMEZONE
END:VCALENDAR
