BEGIN:VCALENDAR
VERSION:2.0
PRODID:-//Events | FID-Recht//NONSGML Events//EN
CALSCALE:GREGORIAN
X-ORIGINAL-URL:https://events.intrecht.de/termine/
X-WR-CALDESC:Events | FID-Recht - Events
BEGIN:VEVENT
UID:20200603T1418Z-1591193923.3362-EO-587-1@172.16.200.141
STATUS:CONFIRMED
DTSTAMP:20260423T034358Z
CREATED:20241127T084129Z
LAST-MODIFIED:20241127T084129Z
DTSTART;VALUE=DATE:20250327
DTEND;VALUE=DATE:20250329
SUMMARY: Transparenz – multidisziplinäre Perspektiven auf einen schillernde
 n Begriff (Tagung)
DESCRIPTION: 27.-28.3.2025 / Kiel (Einreichungsfrist: 15.12.2024) https://w
 ww.theorieblog.de/wp-content/uploads/2024/11/cfp-Transparenz-Tagung.pdf
X-ALT-DESC;FMTTYPE=text/html: <p>27.-28.3.2025 / Kiel <strong>(Einreichungs
 frist: 15.12.2024)</strong></p><p><a href="https://www.theorieblog.de/wp-co
 ntent/uploads/2024/11/cfp-Transparenz-Tagung.pdf">https://www.theorieblog.d
 e/wp-content/uploads/2024/11/cfp-Transparenz-Tagung.pdf</a></p><p>[av_butto
 n label='iCal-Export' link='./feed/eo-events' link_target='' size='small' p
 osition='center' label_display='' title_attr='' icon_select='yes' icon='ue8
 5b' font='entypo-fontello' color='custom' custom_bg='#b5123e' custom_font='
 #ffffff' av_uid='' id='' custom_class='' admin_preview_bg='']</p>
CATEGORIES:Recht interdisziplinär
LOCATION:Inland
GEO:0.000000;0.000000
ORGANIZER;CN="ViFa-Recht":MAILTO:vifa-recht@sbb.spk-berlin.de
URL;VALUE=URI:https://events.intrecht.de/termine/termin/transparenz-multidi
 sziplinaere-perspektiven-auf-einen-schillernden-begriff-tagung/
END:VEVENT
BEGIN:VTIMEZONE
TZID:Europe/Berlin
BEGIN:STANDARD
TZOFFSETFROM:+0200
TZOFFSETTO:+0100
DTSTART:20241027T010000
TZNAME:CET
END:STANDARD
END:VTIMEZONE
END:VCALENDAR
