BEGIN:VCALENDAR
VERSION:2.0
PRODID:-//Events | FID-Recht//NONSGML Events//EN
CALSCALE:GREGORIAN
X-ORIGINAL-URL:https://events.intrecht.de/termine/
X-WR-CALDESC:Events | FID-Recht - Events
BEGIN:VEVENT
UID:20211117T2043Z-1637181782.1136-EO-5199-1@172.16.200.141
STATUS:CONFIRMED
DTSTAMP:20260425T121952Z
CREATED:20211116T235745Z
LAST-MODIFIED:20211116T235745Z
DTSTART;VALUE=DATE:20211130
DTEND;VALUE=DATE:20211201
SUMMARY: Transnational Elements in Colonial Laws – Spain\, Portugal and the
  Netherlands (with Heikki Pihlajamäki) (Online-Vortrag)
DESCRIPTION: 30.11.2021\, Online MPI-TAU Transnational Legal History Worksh
 op | Max-Planck-Institut für Rechtsgeschichte und Rechtstheorie (mpg.de)  
X-ALT-DESC;FMTTYPE=text/html: <p>30.11.2021\, Online</p><p><a href="https:/
 /www.lhlt.mpg.de/2681127/event-21-11-30-mpi-tau-workshop.html">MPI-TAU Tran
 snational Legal History Workshop | Max-Planck-Institut für Rechtsgeschichte
  und Rechtstheorie (mpg.de)</a></p><p> </p><p>[av_button label='iCal-Export
 ' link='./feed/eo-events' link_target='' size='small' position='center' lab
 el_display='' title_attr='' icon_select='yes' icon='ue85b' font='entypo-fon
 tello' color='custom' custom_bg='#b5123e' custom_font='#ffffff' av_uid='' i
 d='' custom_class='' admin_preview_bg='']</p>
CATEGORIES:Recht interdisziplinär
LOCATION:Online
GEO:0.000000;0.000000
ORGANIZER;CN="ViFa-Recht":MAILTO:vifa-recht@sbb.spk-berlin.de
URL;VALUE=URI:https://events.intrecht.de/termine/termin/transnational-eleme
 nts-in-colonial-laws-spain-portugal-and-the-netherlands-with-heikki-pihlaja
 maeki-online-vortrag/
END:VEVENT
BEGIN:VTIMEZONE
TZID:Europe/Berlin
BEGIN:STANDARD
TZOFFSETFROM:+0200
TZOFFSETTO:+0100
DTSTART:20211031T010000
TZNAME:CET
END:STANDARD
END:VTIMEZONE
END:VCALENDAR
