BEGIN:VCALENDAR
VERSION:2.0
PRODID:-//Events | FID-Recht//NONSGML Events//EN
CALSCALE:GREGORIAN
X-ORIGINAL-URL:https://events.intrecht.de/termine/
X-WR-CALDESC:Events | FID-Recht - Events
BEGIN:VEVENT
UID:20210303T1939Z-1614800363.6443-EO-3298-1@172.16.200.141
STATUS:CONFIRMED
DTSTAMP:20260425T134206Z
CREATED:20210129T172956Z
LAST-MODIFIED:20210129T173324Z
DTSTART;VALUE=DATE:20210106
DTEND;VALUE=DATE:20210108
SUMMARY: Transnational Commercial\, Insolvency\, Restructuring\, Entreprene
 urship – Promoting Trade and Development Post the Pandemic mit Don DeAmicis
 \, Stefan Vogenauer u.a. (Online-Konferenz)
DESCRIPTION: 6.-7.1.2021\, Online https://nludelhi.ac.in/UploadedImages/7a4
 00e39-2ee6-434b-9675-6a6641ce2371.pdf    
X-ALT-DESC;FMTTYPE=text/html: <p>6.-7.1.2021\, Online</p><p><a href="https:
 //nludelhi.ac.in/UploadedImages/7a400e39-2ee6-434b-9675-6a6641ce2371.pdf">h
 ttps://nludelhi.ac.in/UploadedImages/7a400e39-2ee6-434b-9675-6a6641ce2371.p
 df</a></p><p> </p><p> </p><p>[av_button label='iCal-Export' link='./feed/eo
 -events' link_target='' size='small' position='center' label_display='' tit
 le_attr='' icon_select='yes' icon='ue85b' font='entypo-fontello' color='cus
 tom' custom_bg='#b5123e' custom_font='#ffffff' av_uid='' id='' custom_class
 ='' admin_preview_bg='']</p>
CATEGORIES:Zivilrecht
LOCATION:Online
GEO:0.000000;0.000000
ORGANIZER;CN="ViFa-Recht":MAILTO:vifa-recht@sbb.spk-berlin.de
URL;VALUE=URI:https://events.intrecht.de/termine/termin/transnational-comme
 rcial-insolvency-restructuring-entrepreneurship-promoting-trade-and-develop
 ment-post-the-pandemic-online-konferenz/
END:VEVENT
BEGIN:VTIMEZONE
TZID:Europe/Berlin
BEGIN:STANDARD
TZOFFSETFROM:+0200
TZOFFSETTO:+0100
DTSTART:20201025T010000
TZNAME:CET
END:STANDARD
END:VTIMEZONE
END:VCALENDAR
