BEGIN:VCALENDAR
VERSION:2.0
PRODID:-//Events | FID-Recht//NONSGML Events//EN
CALSCALE:GREGORIAN
X-ORIGINAL-URL:https://events.intrecht.de/termine/
X-WR-CALDESC:Events | FID-Recht - Events
BEGIN:VEVENT
UID:20210814T1635Z-1628958918.3841-EO-4396-1@172.16.200.141
STATUS:CONFIRMED
DTSTAMP:20260421T234501Z
CREATED:20210811T192602Z
LAST-MODIFIED:20210811T192602Z
DTSTART;VALUE=DATE:20210606
DTEND;VALUE=DATE:20210606
SUMMARY: Transitional Justice in Central and Eastern Europe (Summer School)
  (CfP)
DESCRIPTION: 4.-10.8.2021\, Berlin (Frist für Einreichungen: 6.6.2021) http
 s://deutsche-gesellschaft-ev.de/veranstaltungen/bildungsangebote/1337-somme
 rakademie-transitional-justice-in-central-and-eastern-euro2021-sommerakadem
 ie-transitional-justicpe-coping-with-the-communist-past.html  
X-ALT-DESC;FMTTYPE=text/html: <p>4.-10.8.2021\, Berlin (Frist für Einreichu
 ngen: 6.6.2021)</p><p><a href="https://deutsche-gesellschaft-ev.de/veransta
 ltungen/bildungsangebote/1337-sommerakademie-transitional-justice-in-centra
 l-and-eastern-euro2021-sommerakademie-transitional-justicpe-coping-with-the
 -communist-past.html">https://deutsche-gesellschaft-ev.de/veranstaltungen/b
 ildungsangebote/1337-sommerakademie-transitional-justice-in-central-and-eas
 tern-euro2021-sommerakademie-transitional-justicpe-coping-with-the-communis
 t-past.html</a></p><p> </p><p>[av_button label='iCal-Export' link='./feed/e
 o-events' link_target='' size='small' position='center' label_display='' ti
 tle_attr='' icon_select='yes' icon='ue85b' font='entypo-fontello' color='cu
 stom' custom_bg='#b5123e' custom_font='#ffffff' av_uid='' id='' custom_clas
 s='' admin_preview_bg='']</p>
CATEGORIES:Europäisches / Internationales Recht
LOCATION:Inland
GEO:0.000000;0.000000
ORGANIZER;CN="ViFa-Recht":MAILTO:vifa-recht@sbb.spk-berlin.de
URL;VALUE=URI:https://events.intrecht.de/termine/termin/transitional-justic
 e-in-central-and-eastern-europe-summer-school-cfp/
END:VEVENT
BEGIN:VTIMEZONE
TZID:Europe/Berlin
BEGIN:DAYLIGHT
TZOFFSETFROM:+0100
TZOFFSETTO:+0200
DTSTART:20210328T010000
TZNAME:CEST
END:DAYLIGHT
END:VTIMEZONE
END:VCALENDAR
