BEGIN:VCALENDAR
VERSION:2.0
PRODID:-//Events | FID-Recht//NONSGML Events//EN
CALSCALE:GREGORIAN
X-ORIGINAL-URL:https://events.intrecht.de/termine/
X-WR-CALDESC:Events | FID-Recht - Events
BEGIN:VEVENT
UID:20200603T1418Z-1591193923.3362-EO-587-1@172.16.200.141
STATUS:CONFIRMED
DTSTAMP:20260425T164631Z
CREATED:20230611T142204Z
LAST-MODIFIED:20230611T142204Z
DTSTART;VALUE=DATE:20230614
DTEND;VALUE=DATE:20230616
SUMMARY: Transitional Justice beyond the State: Non-State Actors as Objects
  and Agents in Transitional Justice Processes (International Conference)
DESCRIPTION: 14.-15.6.2023 / Jerusalem https://en.minervacenter.huji.ac.il/
 sites/default/files/minervacenteren/files/tj_2023.pdf
X-ALT-DESC;FMTTYPE=text/html: <p>14.-15.6.2023 / Jerusalem</p><p><a href="h
 ttps://en.minervacenter.huji.ac.il/sites/default/files/minervacenteren/file
 s/tj_2023.pdf">https://en.minervacenter.huji.ac.il/sites/default/files/mine
 rvacenteren/files/tj_2023.pdf</a></p><p>[av_button label='iCal-Export' link
 ='./feed/eo-events' link_target='' size='small' position='center' label_dis
 play='' title_attr='' icon_select='yes' icon='ue85b' font='entypo-fontello'
  color='custom' custom_bg='#b5123e' custom_font='#ffffff' av_uid='' id='' c
 ustom_class='' admin_preview_bg='']</p>
CATEGORIES:Recht interdisziplinär
LOCATION:Ausland
GEO:0.000000;0.000000
ORGANIZER;CN="ViFa-Recht":MAILTO:vifa-recht@sbb.spk-berlin.de
URL;VALUE=URI:https://events.intrecht.de/termine/termin/transitional-justic
 e-beyond-the-state-non-state-actors-as-objects-and-agents-in-transitional-j
 ustice-processes-international-conference/
END:VEVENT
BEGIN:VTIMEZONE
TZID:Europe/Berlin
BEGIN:DAYLIGHT
TZOFFSETFROM:+0100
TZOFFSETTO:+0200
DTSTART:20230326T010000
TZNAME:CEST
END:DAYLIGHT
END:VTIMEZONE
END:VCALENDAR
