BEGIN:VCALENDAR
VERSION:2.0
PRODID:-//Events | FID-Recht//NONSGML Events//EN
CALSCALE:GREGORIAN
X-ORIGINAL-URL:https://events.intrecht.de/termine/
X-WR-CALDESC:Events | FID-Recht - Events
BEGIN:VEVENT
UID:20200603T1418Z-1591193923.3362-EO-587-1@172.16.200.141
STATUS:CONFIRMED
DTSTAMP:20260426T013156Z
CREATED:20230330T094850Z
LAST-MODIFIED:20230330T094850Z
DTSTART;VALUE=DATE:20230411
DTEND;VALUE=DATE:20230412
SUMMARY: Transition dans les Pays Arabes\, les Cas de la Syrie et de la Tun
 isie. Quel Rôle pour l’Union Européenne (Conférence – Débat)
DESCRIPTION: 11.4.2023 / Brüssel https://www.pressclub.be/event/conference-
 debat-transition-dans-les-pays-arabes-les-cas-de-la-syrie-et-de-la-tunisie-
 quel-role-pour-lunion-europeenne/
X-ALT-DESC;FMTTYPE=text/html: <p>11.4.2023 / Brüssel</p><p><a href="https:/
 /www.pressclub.be/event/conference-debat-transition-dans-les-pays-arabes-le
 s-cas-de-la-syrie-et-de-la-tunisie-quel-role-pour-lunion-europeenne/">https
 ://www.pressclub.be/event/conference-debat-transition-dans-les-pays-arabes-
 les-cas-de-la-syrie-et-de-la-tunisie-quel-role-pour-lunion-europeenne/</a><
 /p><p>[av_button label='iCal-Export' link='./feed/eo-events' link_target=''
  size='small' position='center' label_display='' title_attr='' icon_select=
 'yes' icon='ue85b' font='entypo-fontello' color='custom' custom_bg='#b5123e
 ' custom_font='#ffffff' av_uid='' id='' custom_class='' admin_preview_bg=''
 ]</p>
CATEGORIES:Recht interdisziplinär
LOCATION:Ausland
GEO:0.000000;0.000000
ORGANIZER;CN="ViFa-Recht":MAILTO:vifa-recht@sbb.spk-berlin.de
URL;VALUE=URI:https://events.intrecht.de/termine/termin/transition-dans-les
 -pays-arabes-les-cas-de-la-syrie-et-de-la-tunisie-quel-role-pour-lunion-eur
 opeenne-conference-debat/
END:VEVENT
BEGIN:VTIMEZONE
TZID:Europe/Berlin
BEGIN:DAYLIGHT
TZOFFSETFROM:+0100
TZOFFSETTO:+0200
DTSTART:20230326T010000
TZNAME:CEST
END:DAYLIGHT
END:VTIMEZONE
END:VCALENDAR
