BEGIN:VCALENDAR
VERSION:2.0
PRODID:-//Events | FID-Recht//NONSGML Events//EN
CALSCALE:GREGORIAN
X-ORIGINAL-URL:https://events.intrecht.de/termine/
X-WR-CALDESC:Events | FID-Recht - Events
BEGIN:VEVENT
UID:20210218T0952Z-1613641979.9413-EO-3354-1@172.16.200.141
STATUS:CONFIRMED
DTSTAMP:20260423T040909Z
CREATED:20210129T145007Z
LAST-MODIFIED:20210129T145007Z
DTSTART;TZID=Europe/Berlin:20210215T140000
DTEND;TZID=Europe/Berlin:20210215T140000
SUMMARY: Transdemocracia – um projeto em andamento (Seminar zur Rechtsgesch
 ichte der Iberischen Welten) (Online-Seminar)
DESCRIPTION: 15.2.2021\, Online https://www.rg.mpg.de/2448227/event-21-02-1
 5-transdemocracia.html  
X-ALT-DESC;FMTTYPE=text/html: <p>15.2.2021\, Online</p><p><a href="https://
 www.rg.mpg.de/2448227/event-21-02-15-transdemocracia.html">https://www.rg.m
 pg.de/2448227/event-21-02-15-transdemocracia.html</a></p><p> </p><p>[av_but
 ton label='iCal-Export' link='./feed/eo-events' link_target='' size='small'
  position='center' label_display='' title_attr='' icon_select='yes' icon='u
 e85b' font='entypo-fontello' color='custom' custom_bg='#b5123e' custom_font
 ='#ffffff' av_uid='' id='' custom_class='' admin_preview_bg='']</p>
CATEGORIES:Recht interdisziplinär
LOCATION:Online
GEO:0.000000;0.000000
ORGANIZER;CN="ViFa-Recht":MAILTO:vifa-recht@sbb.spk-berlin.de
URL;VALUE=URI:https://events.intrecht.de/termine/termin/transdemocracia-um-
 projeto-em-andamento-seminar-zur-rechtsgeschichte-der-iberischen-welten-onl
 ine-seminar/
END:VEVENT
BEGIN:VTIMEZONE
TZID:Europe/Berlin
BEGIN:STANDARD
TZOFFSETFROM:+0200
TZOFFSETTO:+0100
DTSTART:20201025T010000
TZNAME:CET
END:STANDARD
END:VTIMEZONE
END:VCALENDAR
