BEGIN:VCALENDAR
VERSION:2.0
PRODID:-//Events | FID-Recht//NONSGML Events//EN
CALSCALE:GREGORIAN
X-ORIGINAL-URL:https://events.intrecht.de/termine/
X-WR-CALDESC:Events | FID-Recht - Events
BEGIN:VEVENT
UID:20220203T2120Z-1643923216.9229-EO-4500-1@172.16.200.141
STATUS:CONFIRMED
DTSTAMP:20260421T115534Z
CREATED:20220127T195537Z
LAST-MODIFIED:20220127T195537Z
DTSTART;VALUE=DATE:20220209
DTEND;VALUE=DATE:20220210
SUMMARY: Transatlantic Seminar on Consumer Law\, Technology and Inequality 
 (with Yochai Benkler\, Michael Kades\,Vanessa Mak\, Andreas Mundt) (Online-
 Workshop)
DESCRIPTION: 9.2.2022\, Online Transatlantic Seminar: „Digital Economy and 
 Inequality“ (Part I) (mpipriv.de)  
X-ALT-DESC;FMTTYPE=text/html: <p>9.2.2022\, Online</p><p><a href="https://e
 vents.mpipriv.de/transatlantic-seminar-2022-02-09">Transatlantic Seminar: "
 Digital Economy and Inequality" (Part I) (mpipriv.de)</a></p><p> </p><p>[av
 _button label='iCal-Export' link='./feed/eo-events' link_target='' size='sm
 all' position='center' label_display='' title_attr='' icon_select='yes' ico
 n='ue85b' font='entypo-fontello' color='custom' custom_bg='#b5123e' custom_
 font='#ffffff' av_uid='' id='' custom_class='' admin_preview_bg='']</p>
CATEGORIES:Zivilrecht
LOCATION:Online
GEO:0.000000;0.000000
ORGANIZER;CN="ViFa-Recht":MAILTO:vifa-recht@sbb.spk-berlin.de
URL;VALUE=URI:https://events.intrecht.de/termine/termin/transatlantic-semin
 ar-on-consumer-law-technology-and-inequality-with-yochai-benkler-michael-ka
 desvanessa-mak-andreas-mundt-online-workshop/
END:VEVENT
BEGIN:VTIMEZONE
TZID:Europe/Berlin
BEGIN:STANDARD
TZOFFSETFROM:+0200
TZOFFSETTO:+0100
DTSTART:20211031T010000
TZNAME:CET
END:STANDARD
END:VTIMEZONE
END:VCALENDAR
