BEGIN:VCALENDAR
VERSION:2.0
PRODID:-//Events | FID-Recht//NONSGML Events//EN
CALSCALE:GREGORIAN
X-ORIGINAL-URL:https://events.intrecht.de/termine/
X-WR-CALDESC:Events | FID-Recht - Events
BEGIN:VEVENT
UID:20220204T1040Z-1643971254.2207-EO-3996-1@172.16.200.141
STATUS:CONFIRMED
DTSTAMP:20260421T102859Z
CREATED:20220127T205142Z
LAST-MODIFIED:20220127T205142Z
DTSTART;VALUE=DATE:20220216
DTEND;VALUE=DATE:20220217
SUMMARY: Transatlantic Seminar on Consumer Law\, Technology and Inequality:
  „Digital Economy and Inequality“ (Part II) (with Natali Helberger\, Ursula
  Pachl\, Richard Powers\, Ramsi Woodcock) (Online-Workshop)
DESCRIPTION: 16.2.2022\, Online Transatlantic Seminar: „Digital Economy and
  Inequality“ (Part II) (mpipriv.de)  
X-ALT-DESC;FMTTYPE=text/html: <p>16.2.2022\, Online</p><p><a href="https://
 events.mpipriv.de/transatlanticseminar-2022-02-16">Transatlantic Seminar: "
 Digital Economy and Inequality" (Part II) (mpipriv.de)</a></p><p> </p><p>[a
 v_button label='iCal-Export' link='./feed/eo-events' link_target='' size='s
 mall' position='center' label_display='' title_attr='' icon_select='yes' ic
 on='ue85b' font='entypo-fontello' color='custom' custom_bg='#b5123e' custom
 _font='#ffffff' av_uid='' id='' custom_class='' admin_preview_bg='']</p>
CATEGORIES:Zivilrecht
LOCATION:Online
GEO:0.000000;0.000000
ORGANIZER;CN="ViFa-Recht":MAILTO:vifa-recht@sbb.spk-berlin.de
URL;VALUE=URI:https://events.intrecht.de/termine/termin/transatlantic-semin
 ar-on-consumer-law-technology-and-inequality-digital-economy-and-inequality
 -part-ii-with-natali-helberger-ursula-pachl-richard-powers-ramsi-woodcock-o
 nline-workshop/
END:VEVENT
BEGIN:VTIMEZONE
TZID:Europe/Berlin
BEGIN:STANDARD
TZOFFSETFROM:+0200
TZOFFSETTO:+0100
DTSTART:20211031T010000
TZNAME:CET
END:STANDARD
END:VTIMEZONE
END:VCALENDAR
