BEGIN:VCALENDAR
VERSION:2.0
PRODID:-//Events | FID-Recht//NONSGML Events//EN
CALSCALE:GREGORIAN
X-ORIGINAL-URL:https://events.intrecht.de/termine/
X-WR-CALDESC:Events | FID-Recht - Events
BEGIN:VEVENT
UID:20220330T1731Z-1648661488.3777-EO-5045-1@172.16.200.141
STATUS:CONFIRMED
DTSTAMP:20260421T221925Z
CREATED:20220329T105234Z
LAST-MODIFIED:20220329T105234Z
DTSTART;VALUE=DATE:20220420
DTEND;VALUE=DATE:20220421
SUMMARY: Transatlantic Seminar on Consumer Law\, Technology and Inequality:
  Big Tech\, Consumers and Inequality (with Margrethe Vestager\, Fiona Scott
  Morton\, Giorgio Monti and Sarah Miller) (Online-Seminar)
DESCRIPTION: 20.4.2022\, Online Transatlantic Seminar: „Big Tech\, Consumer
 s and Inequality“ (mpipriv.de)  
X-ALT-DESC;FMTTYPE=text/html: <p>20.4.2022\, Online</p><p><a href="https://
 events.mpipriv.de/transatlantic-seminar-20-04-2022">Transatlantic Seminar: 
 "Big Tech\, Consumers and Inequality" (mpipriv.de)</a></p><p> </p><p>[av_bu
 tton label='iCal-Export' link='./feed/eo-events' link_target='' size='small
 ' position='center' label_display='' title_attr='' icon_select='yes' icon='
 ue85b' font='entypo-fontello' color='custom' custom_bg='#b5123e' custom_fon
 t='#ffffff' av_uid='' id='' custom_class='' admin_preview_bg='']</p>
CATEGORIES:Zivilrecht
LOCATION:Online
GEO:0.000000;0.000000
ORGANIZER;CN="ViFa-Recht":MAILTO:vifa-recht@sbb.spk-berlin.de
URL;VALUE=URI:https://events.intrecht.de/termine/termin/transatlantic-semin
 ar-on-consumer-law-technology-and-inequality-big-tech-consumers-and-inequal
 ity-with-margrethe-vestager-fiona-scott-morton-giorgio-monti-and-sarah-mill
 er-online-seminar/
END:VEVENT
BEGIN:VTIMEZONE
TZID:Europe/Berlin
BEGIN:DAYLIGHT
TZOFFSETFROM:+0100
TZOFFSETTO:+0200
DTSTART:20220327T010000
TZNAME:CEST
END:DAYLIGHT
END:VTIMEZONE
END:VCALENDAR
