BEGIN:VCALENDAR
VERSION:2.0
PRODID:-//Events | FID-Recht//NONSGML Events//EN
CALSCALE:GREGORIAN
X-ORIGINAL-URL:https://events.intrecht.de/termine/
X-WR-CALDESC:Events | FID-Recht - Events
BEGIN:VEVENT
UID:20200603T1418Z-1591193923.3362-EO-587-1@172.16.200.141
STATUS:CONFIRMED
DTSTAMP:20260426T025131Z
CREATED:20230801T115902Z
LAST-MODIFIED:20230801T115902Z
DTSTART;VALUE=DATE:20230915
DTEND;VALUE=DATE:20230916
SUMMARY: Transatlantic Data Transfers (Hybrid International Conference)
DESCRIPTION: 15.9.2023 / Online und Luxemburg https://www.mpi.lu/news-and-e
 vents/2023/september/15/transatlantic-data-transfers/
X-ALT-DESC;FMTTYPE=text/html: <p>15.9.2023 / Online und Luxemburg</p><p><a 
 href="https://www.mpi.lu/news-and-events/2023/september/15/transatlantic-da
 ta-transfers/">https://www.mpi.lu/news-and-events/2023/september/15/transat
 lantic-data-transfers/</a></p><p>[av_button label='iCal-Export' link='./fee
 d/eo-events' link_target='' size='small' position='center' label_display=''
  title_attr='' icon_select='yes' icon='ue85b' font='entypo-fontello' color=
 'custom' custom_bg='#b5123e' custom_font='#ffffff' av_uid='' id='' custom_c
 lass='' admin_preview_bg='']</p>
CATEGORIES:Recht interdisziplinär
LOCATION:Online
GEO:0.000000;0.000000
ORGANIZER;CN="ViFa-Recht":MAILTO:vifa-recht@sbb.spk-berlin.de
URL;VALUE=URI:https://events.intrecht.de/termine/termin/transatlantic-data-
 transfers-hybrid-international-conference/
END:VEVENT
BEGIN:VTIMEZONE
TZID:Europe/Berlin
BEGIN:DAYLIGHT
TZOFFSETFROM:+0100
TZOFFSETTO:+0200
DTSTART:20230326T010000
TZNAME:CEST
END:DAYLIGHT
END:VTIMEZONE
END:VCALENDAR
