BEGIN:VCALENDAR
VERSION:2.0
PRODID:-//Events | FID-Recht//NONSGML Events//EN
CALSCALE:GREGORIAN
X-ORIGINAL-URL:https://events.intrecht.de/termine/
X-WR-CALDESC:Events | FID-Recht - Events
BEGIN:VEVENT
UID:20210314T1914Z-1615749291.0163-EO-3509-1@172.16.200.141
STATUS:CONFIRMED
DTSTAMP:20260421T170744Z
CREATED:20210311T163048Z
LAST-MODIFIED:20210311T163104Z
DTSTART;VALUE=DATE:20210315
DTEND;VALUE=DATE:20210316
SUMMARY: Trade and investment relations between the European Union and Lati
 n America (Online-Konferenz)
DESCRIPTION: 15.3.2021\, Online https://eurolatinstudies.com/index.php/lace
 s/announcement/view/18  
X-ALT-DESC;FMTTYPE=text/html: <p>15.3.2021\, Online</p><p><a href="https://
 eurolatinstudies.com/index.php/laces/announcement/view/18">https://eurolati
 nstudies.com/index.php/laces/announcement/view/18</a></p><p> </p><p>[av_but
 ton label='iCal-Export' link='./feed/eo-events' link_target='' size='small'
  position='center' label_display='' title_attr='' icon_select='yes' icon='u
 e85b' font='entypo-fontello' color='custom' custom_bg='#b5123e' custom_font
 ='#ffffff' av_uid='' id='' custom_class='' admin_preview_bg='']</p>
CATEGORIES:Europäisches / Internationales Recht,Zivilrecht
LOCATION:Online
GEO:0.000000;0.000000
ORGANIZER;CN="ViFa-Recht":MAILTO:vifa-recht@sbb.spk-berlin.de
URL;VALUE=URI:https://events.intrecht.de/termine/termin/trade-and-investmen
 t-relations-between-the-european-union-and-latin-america-online-konferenz/
END:VEVENT
BEGIN:VTIMEZONE
TZID:Europe/Berlin
BEGIN:STANDARD
TZOFFSETFROM:+0200
TZOFFSETTO:+0100
DTSTART:20201025T010000
TZNAME:CET
END:STANDARD
END:VTIMEZONE
END:VCALENDAR
