BEGIN:VCALENDAR
VERSION:2.0
PRODID:-//Events | FID-Recht//NONSGML Events//EN
CALSCALE:GREGORIAN
X-ORIGINAL-URL:https://events.intrecht.de/termine/
X-WR-CALDESC:Events | FID-Recht - Events
BEGIN:VEVENT
UID:20200603T1418Z-1591193923.3362-EO-587-1@172.16.200.141
STATUS:CONFIRMED
DTSTAMP:20260421T215548Z
CREATED:20230821T133018Z
LAST-MODIFIED:20230821T133018Z
DTSTART;VALUE=DATE:20230928
DTEND;VALUE=DATE:20230930
SUMMARY: Towards just institutional approaches to conflict prevention and r
 esolution (Conference)
DESCRIPTION: 28.-29.9.2023 / Utrecht https://www.uu.nl/en/research/empirica
 l-research-into-institutions-for-conflict-resolution-eri/coi-conferentie-20
 23
X-ALT-DESC;FMTTYPE=text/html: <p>28.-29.9.2023 / Utrecht</p><p><a href="htt
 ps://www.uu.nl/en/research/empirical-research-into-institutions-for-conflic
 t-resolution-eri/coi-conferentie-2023">https://www.uu.nl/en/research/empiri
 cal-research-into-institutions-for-conflict-resolution-eri/coi-conferentie-
 2023</a></p><p>[av_button label='iCal-Export' link='./feed/eo-events' link_
 target='' size='small' position='center' label_display='' title_attr='' ico
 n_select='yes' icon='ue85b' font='entypo-fontello' color='custom' custom_bg
 ='#b5123e' custom_font='#ffffff' av_uid='' id='' custom_class='' admin_prev
 iew_bg='']</p>
CATEGORIES:Recht interdisziplinär
LOCATION:Ausland
GEO:0.000000;0.000000
ORGANIZER;CN="ViFa-Recht":MAILTO:vifa-recht@sbb.spk-berlin.de
URL;VALUE=URI:https://events.intrecht.de/termine/termin/towards-just-instit
 utional-approaches-to-conflict-prevention-and-resolution-conference/
END:VEVENT
BEGIN:VTIMEZONE
TZID:Europe/Berlin
BEGIN:DAYLIGHT
TZOFFSETFROM:+0100
TZOFFSETTO:+0200
DTSTART:20230326T010000
TZNAME:CEST
END:DAYLIGHT
END:VTIMEZONE
END:VCALENDAR
