BEGIN:VCALENDAR
VERSION:2.0
PRODID:-//Events | FID-Recht//NONSGML Events//EN
CALSCALE:GREGORIAN
X-ORIGINAL-URL:https://events.intrecht.de/termine/
X-WR-CALDESC:Events | FID-Recht - Events
BEGIN:VEVENT
UID:20220118T1737Z-1642527433.4127-EO-3987-1@172.16.200.141
STATUS:CONFIRMED
DTSTAMP:20260425T182951Z
CREATED:20220114T170754Z
LAST-MODIFIED:20220114T170754Z
DTSTART;VALUE=DATE:20220124
DTEND;VALUE=DATE:20220125
SUMMARY: Towards Global Algorithmic Technocracy – Post-Westphalian and neo-
 Westphalian Perspectives for (Post)Democracy? (mit Martin Belov) (Online-Vo
 rtrag)
DESCRIPTION: 24.1.2022\, Online Forschungsverbund Normative Ordnungen der G
 oethe-Universität (normativeorders.net)  
X-ALT-DESC;FMTTYPE=text/html: <p>24.1.2022\, Online</p><p><a href="https://
 www.normativeorders.net/de/component/content/article/38-veranstaltungen/rin
 gvorlesungen/8293-algorithmen-und-die-transformation-von-demokratie">Forsch
 ungsverbund Normative Ordnungen der Goethe-Universität (normativeorders.net
 )</a></p><p> </p><p>[av_button label='iCal-Export' link='./feed/eo-events' 
 link_target='' size='small' position='center' label_display='' title_attr='
 ' icon_select='yes' icon='ue85b' font='entypo-fontello' color='custom' cust
 om_bg='#b5123e' custom_font='#ffffff' av_uid='' id='' custom_class='' admin
 _preview_bg='']</p>
CATEGORIES:Europäisches / Internationales Recht
LOCATION:Online
GEO:0.000000;0.000000
ORGANIZER;CN="ViFa-Recht":MAILTO:vifa-recht@sbb.spk-berlin.de
URL;VALUE=URI:https://events.intrecht.de/termine/termin/towards-global-algo
 rithmic-technocracy-post-westphalian-and-neo-westphalian-perspectives-for-p
 ostdemocracy-mit-martin-belov-online-vortrag/
END:VEVENT
BEGIN:VTIMEZONE
TZID:Europe/Berlin
BEGIN:STANDARD
TZOFFSETFROM:+0200
TZOFFSETTO:+0100
DTSTART:20211031T010000
TZNAME:CET
END:STANDARD
END:VTIMEZONE
END:VCALENDAR
