BEGIN:VCALENDAR
VERSION:2.0
PRODID:-//Events | FID-Recht//NONSGML Events//EN
CALSCALE:GREGORIAN
X-ORIGINAL-URL:https://events.intrecht.de/termine/
X-WR-CALDESC:Events | FID-Recht - Events
BEGIN:VEVENT
UID:20200602T0945Z-1591091115.9737-EO-599-1@172.16.200.141
STATUS:CONFIRMED
DTSTAMP:20260423T020039Z
CREATED:20251124T150557Z
LAST-MODIFIED:20251124T150557Z
DTSTART;VALUE=DATE:20251203
DTEND;VALUE=DATE:20251204
SUMMARY: Toward a Computational Theory of Legal Systems (Virtual Lecture)
DESCRIPTION: 3.12.2025 / Online https://events.mpipriv.de/b?p=speaker_serie
 s_with_corinna_coupette
X-ALT-DESC;FMTTYPE=text/html: <p>3.12.2025 / Online</p><p><a href="https://
 events.mpipriv.de/b?p=speaker_series_with_corinna_coupette">https://events.
 mpipriv.de/b?p=speaker_series_with_corinna_coupette</a></p><p>[av_button la
 bel='iCal-Export' link='./feed/eo-events' link_target='' size='small' posit
 ion='center' label_display='' title_attr='' icon_select='yes' icon='ue85b' 
 font='entypo-fontello' color='custom' custom_bg='#b5123e' custom_font='#fff
 fff' av_uid='' id='' custom_class='' admin_preview_bg='']</p>
CATEGORIES:Recht interdisziplinär
LOCATION:Online
GEO:0.000000;0.000000
ORGANIZER;CN="ViFa-Recht":MAILTO:vifa-recht@sbb.spk-berlin.de
URL;VALUE=URI:https://events.intrecht.de/termine/termin/toward-a-computatio
 nal-theory-of-legal-systems-virtual-lecture/
END:VEVENT
BEGIN:VTIMEZONE
TZID:Europe/Berlin
BEGIN:STANDARD
TZOFFSETFROM:+0200
TZOFFSETTO:+0100
DTSTART:20251026T010000
TZNAME:CET
END:STANDARD
END:VTIMEZONE
END:VCALENDAR
