BEGIN:VCALENDAR
VERSION:2.0
PRODID:-//Events | FID-Recht//NONSGML Events//EN
CALSCALE:GREGORIAN
X-ORIGINAL-URL:https://events.intrecht.de/termine/
X-WR-CALDESC:Events | FID-Recht - Events
BEGIN:VEVENT
UID:20211217T2259Z-1639781940.7021-EO-5436-1@172.16.200.141
STATUS:CONFIRMED
DTSTAMP:20260425T193706Z
CREATED:20211216T113143Z
LAST-MODIFIED:20211216T113143Z
DTSTART;VALUE=DATE:20211231
DTEND;VALUE=DATE:20220101
SUMMARY: Torts Law Reform in Asia and Beyond (Online-Tagung) (CfP)
DESCRIPTION: 13.5.2022\, Online (Frist für Einreichungen: 31.12.2021) Call 
 for Papers: CCTL Obligations Lab Asia Conference – ‚Torts Law Reform in Asi
 a and Beyond‘ – CUHK LAW – The Chinese University of Hong Kong  
X-ALT-DESC;FMTTYPE=text/html: <p>13.5.2022\, Online (Frist für Einreichunge
 n: 31.12.2021)</p><p><a href="https://www.law.cuhk.edu.hk/app/events/call-f
 or-papers-cctl-obligations-lab-asia-conference-torts-law-reform-in-asia-and
 -beyond/">Call for Papers: CCTL Obligations Lab Asia Conference - 'Torts La
 w Reform in Asia and Beyond' - CUHK LAW - The Chinese University of Hong Ko
 ng</a></p><p> </p><p>[av_button label='iCal-Export' link='./feed/eo-events'
  link_target='' size='small' position='center' label_display='' title_attr=
 '' icon_select='yes' icon='ue85b' font='entypo-fontello' color='custom' cus
 tom_bg='#b5123e' custom_font='#ffffff' av_uid='' id='' custom_class='' admi
 n_preview_bg='']</p>
CATEGORIES:Zivilrecht
LOCATION:Online
GEO:0.000000;0.000000
ORGANIZER;CN="ViFa-Recht":MAILTO:vifa-recht@sbb.spk-berlin.de
URL;VALUE=URI:https://events.intrecht.de/termine/termin/torts-law-reform-in
 -asia-and-beyond-online-tagung-cfp/
END:VEVENT
BEGIN:VTIMEZONE
TZID:Europe/Berlin
BEGIN:STANDARD
TZOFFSETFROM:+0200
TZOFFSETTO:+0100
DTSTART:20211031T010000
TZNAME:CET
END:STANDARD
END:VTIMEZONE
END:VCALENDAR
