BEGIN:VCALENDAR
VERSION:2.0
PRODID:-//Events | FID-Recht//NONSGML Events//EN
CALSCALE:GREGORIAN
X-ORIGINAL-URL:https://events.intrecht.de/termine/
X-WR-CALDESC:Events | FID-Recht - Events
BEGIN:VEVENT
UID:20210302T1043Z-1614681809.3774-EO-3485-1@172.16.200.141
STATUS:CONFIRMED
DTSTAMP:20260421T170632Z
CREATED:20210219T134851Z
LAST-MODIFIED:20210219T134851Z
DTSTART;VALUE=DATE:20210302
DTEND;VALUE=DATE:20210302
SUMMARY: Tokenising the 1794 Treason Trials (Cambridge Legal and Social His
 tory Workshop) (mit Kerry Love) (Online-Vortrag)
DESCRIPTION: 2.3.2021\, Online https://twitter.com/CamLegalSocial/status/13
 52557870626181120/photo/1  
X-ALT-DESC;FMTTYPE=text/html: <p>2.3.2021\, Online</p><p><a href="https://t
 witter.com/CamLegalSocial/status/1352557870626181120/photo/1">https://twitt
 er.com/CamLegalSocial/status/1352557870626181120/photo/1</a></p><p> </p><p>
 [av_button label='iCal-Export' link='./feed/eo-events' link_target='' size=
 'small' position='center' label_display='' title_attr='' icon_select='yes' 
 icon='ue85b' font='entypo-fontello' color='custom' custom_bg='#b5123e' cust
 om_font='#ffffff' av_uid='' id='' custom_class='' admin_preview_bg='']</p>
CATEGORIES:Recht interdisziplinär
LOCATION:Online
GEO:0.000000;0.000000
ORGANIZER;CN="ViFa-Recht":MAILTO:vifa-recht@sbb.spk-berlin.de
URL;VALUE=URI:https://events.intrecht.de/termine/termin/tokenising-the-1794
 -treason-trials-cambridge-legal-and-social-history-workshop-mit-kerry-love-
 online-vortrag/
END:VEVENT
BEGIN:VTIMEZONE
TZID:Europe/Berlin
BEGIN:STANDARD
TZOFFSETFROM:+0200
TZOFFSETTO:+0100
DTSTART:20201025T010000
TZNAME:CET
END:STANDARD
END:VTIMEZONE
END:VCALENDAR
