BEGIN:VCALENDAR
VERSION:2.0
PRODID:-//Events | FID-Recht//NONSGML Events//EN
CALSCALE:GREGORIAN
X-ORIGINAL-URL:https://events.intrecht.de/termine/
X-WR-CALDESC:Events | FID-Recht - Events
BEGIN:VEVENT
UID:20200818T0101Z-1597712513.0943-EO-1360-1@172.16.200.141
STATUS:CONFIRMED
DTSTAMP:20260422T160601Z
CREATED:20200814T174307Z
LAST-MODIFIED:20200814T175355Z
DTSTART;VALUE=DATE:20201023
DTEND;VALUE=DATE:20201024
SUMMARY: „To me\, fair friend\, you can never be old“: The European Convent
 ion on Human Rights at 70 (3. Bernhardt Lecture: Professor Başak Çalı) (Vor
 trag)
DESCRIPTION: 23.10.2020\, Berlin https://www.mpil.de/de/pub/aktuelles/veran
 staltungen.cfm?event=calendar.Display&cat=3&iDisplayID=7&event_ID=612&date=
 07/30/2020    
X-ALT-DESC;FMTTYPE=text/html: <p><span style="display: inline !important\; 
 float: none\; background-color: #ffffff\; color: #333333\; cursor: text\; f
 ont-family: Georgia\,'Times New Roman'\,'Bitstream Charter'\,Times\,serif\;
  font-size: 16px\; font-style: normal\; font-variant: normal\; font-weight:
  400\; letter-spacing: normal\; orphans: 2\; text-align: left\; text-decora
 tion: none\; text-indent: 0px\; text-transform: none\; -webkit-text-stroke-
 width: 0px\; white-space: normal\; word-spacing: 0px\;">23.10.2020\, Berlin
 </span></p><p><a href="https://www.mpil.de/de/pub/aktuelles/veranstaltungen
 .cfm?event=calendar.Display&cat=3&iDisplayID=7&event_ID=612&date=07/30/2020
 ">https://www.mpil.de/de/pub/aktuelles/veranstaltungen.cfm?event=calendar.D
 isplay&cat=3&iDisplayID=7&event_ID=612&date=07/30/2020</a></p><p> </p><p> <
 /p><p>[av_button label='iCal-Export' link='./feed/eo-events' link_target=''
  size='small' position='center' label_display='' title_attr='' icon_select=
 'yes' icon='ue85b' font='entypo-fontello' color='custom' custom_bg='#b5123e
 ' custom_font='#ffffff' av_uid='' id='' custom_class='' admin_preview_bg=''
 ]</p>
CATEGORIES:Europäisches / Internationales Recht
LOCATION:Inland
GEO:0.000000;0.000000
ORGANIZER;CN="ViFa-Recht":MAILTO:vifa-recht@sbb.spk-berlin.de
URL;VALUE=URI:https://events.intrecht.de/termine/termin/to-me-fair-friend-y
 ou-can-never-be-old-the-european-convention-on-human-rights-at-70-3-bernhar
 dt-lecture-professor-basak-cali-vortrag/
END:VEVENT
BEGIN:VTIMEZONE
TZID:Europe/Berlin
BEGIN:DAYLIGHT
TZOFFSETFROM:+0100
TZOFFSETTO:+0200
DTSTART:20200329T010000
TZNAME:CEST
END:DAYLIGHT
END:VTIMEZONE
END:VCALENDAR
