BEGIN:VCALENDAR
VERSION:2.0
PRODID:-//Events | FID-Recht//NONSGML Events//EN
CALSCALE:GREGORIAN
X-ORIGINAL-URL:https://events.intrecht.de/termine/
X-WR-CALDESC:Events | FID-Recht - Events
BEGIN:VEVENT
UID:20200602T0945Z-1591091115.9737-EO-599-1@172.16.200.141
STATUS:CONFIRMED
DTSTAMP:20260423T020834Z
CREATED:20251029T095207Z
LAST-MODIFIED:20251029T095207Z
DTSTART;VALUE=DATE:20251117
DTEND;VALUE=DATE:20251118
SUMMARY: Thomas Mann und die Suche nach dem verlorenen Gott (Festvortrag un
 d Empfang)
DESCRIPTION: 17.11.2025 / Hamburg https://events.mpipriv.de/b?p=festvortrag
 _geburtstag_hein_koetz
X-ALT-DESC;FMTTYPE=text/html: <p>17.11.2025 / Hamburg</p><p><a href="https:
 //events.mpipriv.de/b?p=festvortrag_geburtstag_hein_koetz">https://events.m
 pipriv.de/b?p=festvortrag_geburtstag_hein_koetz</a></p><p>[av_button label=
 'iCal-Export' link='./feed/eo-events' link_target='' size='small' position=
 'center' label_display='' title_attr='' icon_select='yes' icon='ue85b' font
 ='entypo-fontello' color='custom' custom_bg='#b5123e' custom_font='#ffffff'
  av_uid='' id='' custom_class='' admin_preview_bg='']</p>
CATEGORIES:Zivilrecht
LOCATION:Inland
GEO:0.000000;0.000000
ORGANIZER;CN="ViFa-Recht":MAILTO:vifa-recht@sbb.spk-berlin.de
URL;VALUE=URI:https://events.intrecht.de/termine/termin/thomas-mann-und-die
 -suche-nach-dem-verlorenen-gott-festvortrag-und-empfang/
END:VEVENT
BEGIN:VTIMEZONE
TZID:Europe/Berlin
BEGIN:STANDARD
TZOFFSETFROM:+0200
TZOFFSETTO:+0100
DTSTART:20251026T010000
TZNAME:CET
END:STANDARD
END:VTIMEZONE
END:VCALENDAR
