BEGIN:VCALENDAR
VERSION:2.0
PRODID:-//Events | FID-Recht//NONSGML Events//EN
CALSCALE:GREGORIAN
X-ORIGINAL-URL:https://events.intrecht.de/termine/
X-WR-CALDESC:Events | FID-Recht - Events
BEGIN:VEVENT
UID:20200603T1418Z-1591193923.3362-EO-587-1@172.16.200.141
STATUS:CONFIRMED
DTSTAMP:20260423T005157Z
CREATED:20240223T133943Z
LAST-MODIFIED:20240223T133943Z
DTSTART;VALUE=DATE:20240619
DTEND;VALUE=DATE:20240621
SUMMARY: Thinking the Constitution out of the State: On the use of Constitu
 tional Law by Non-State Actors (Conference / International Association of C
 onstitutional Law (IACL) Roundtable)
DESCRIPTION: 19.-20.6.2024 / Paris (Einreichungsfrist: 15.3.2024) https://i
 acl-aidc.org/images/news/2024/Lyon_2024_Call_for_Papers.pdf
X-ALT-DESC;FMTTYPE=text/html: <p>19.-20.6.2024 / Paris <strong>(Einreichung
 sfrist: 15.3.2024)</strong></p><p><a href="https://iacl-aidc.org/images/new
 s/2024/Lyon_2024_Call_for_Papers.pdf">https://iacl-aidc.org/images/news/202
 4/Lyon_2024_Call_for_Papers.pdf</a></p><p>[av_button label='iCal-Export' li
 nk='./feed/eo-events' link_target='' size='small' position='center' label_d
 isplay='' title_attr='' icon_select='yes' icon='ue85b' font='entypo-fontell
 o' color='custom' custom_bg='#b5123e' custom_font='#ffffff' av_uid='' id=''
  custom_class='' admin_preview_bg='']</p>
CATEGORIES:Öffentliches Recht
LOCATION:Ausland
GEO:0.000000;0.000000
ORGANIZER;CN="ViFa-Recht":MAILTO:vifa-recht@sbb.spk-berlin.de
URL;VALUE=URI:https://events.intrecht.de/termine/termin/thinking-the-consti
 tution-out-of-the-state-on-the-use-of-constitutional-law-by-non-state-actor
 s-conference-international-association-of-constitutional-law-iacl-roundtabl
 e/
END:VEVENT
BEGIN:VTIMEZONE
TZID:Europe/Berlin
BEGIN:DAYLIGHT
TZOFFSETFROM:+0100
TZOFFSETTO:+0200
DTSTART:20240331T010000
TZNAME:CEST
END:DAYLIGHT
END:VTIMEZONE
END:VCALENDAR
