BEGIN:VCALENDAR
VERSION:2.0
PRODID:-//Events | FID-Recht//NONSGML Events//EN
CALSCALE:GREGORIAN
X-ORIGINAL-URL:https://events.intrecht.de/termine/
X-WR-CALDESC:Events | FID-Recht - Events
BEGIN:VEVENT
UID:20200603T1418Z-1591193923.3362-EO-587-1@172.16.200.141
STATUS:CONFIRMED
DTSTAMP:20260423T020155Z
CREATED:20250827T104022Z
LAST-MODIFIED:20250827T104022Z
DTSTART;VALUE=DATE:20251202
DTEND;VALUE=DATE:20251206
SUMMARY: Thinking Locally and Beyond the COP30 (Second Edition of The Law a
 nd The Amazon Conference)
DESCRIPTION: 2.-5.12.2025 / Belém https://law.mpg.de/event/ii-law-the-amazo
 n-international-conference/
X-ALT-DESC;FMTTYPE=text/html: <p>2.-5.12.2025 / Belém</p><p><a href="https:
 //law.mpg.de/event/ii-law-the-amazon-international-conference/">https://law
 .mpg.de/event/ii-law-the-amazon-international-conference/</a></p><p>[av_but
 ton label='iCal-Export' link='./feed/eo-events' link_target='' size='small'
  position='center' label_display='' title_attr='' icon_select='yes' icon='u
 e85b' font='entypo-fontello' color='custom' custom_bg='#b5123e' custom_font
 ='#ffffff' av_uid='' id='' custom_class='' admin_preview_bg='']</p>
CATEGORIES:Europäisches / Internationales Recht
LOCATION:Ausland
GEO:0.000000;0.000000
ORGANIZER;CN="ViFa-Recht":MAILTO:vifa-recht@sbb.spk-berlin.de
URL;VALUE=URI:https://events.intrecht.de/termine/termin/thinking-locally-an
 d-beyond-the-cop30-second-edition-of-the-law-and-the-amazon-conference/
END:VEVENT
BEGIN:VTIMEZONE
TZID:Europe/Berlin
BEGIN:STANDARD
TZOFFSETFROM:+0200
TZOFFSETTO:+0100
DTSTART:20251026T010000
TZNAME:CET
END:STANDARD
END:VTIMEZONE
END:VCALENDAR
